BEGIN:VCALENDAR
VERSION:2.0
PRODID:-//Texas SFST - ECPv6.15.20//NONSGML v1.0//EN
CALSCALE:GREGORIAN
METHOD:PUBLISH
X-WR-CALNAME:Texas SFST
X-ORIGINAL-URL:https://txsfst.org
X-WR-CALDESC:Events for Texas SFST
REFRESH-INTERVAL;VALUE=DURATION:PT1H
X-Robots-Tag:noindex
X-PUBLISHED-TTL:PT1H
BEGIN:VTIMEZONE
TZID:America/Chicago
BEGIN:DAYLIGHT
TZOFFSETFROM:-0600
TZOFFSETTO:-0500
TZNAME:CDT
DTSTART:20220313T080000
END:DAYLIGHT
BEGIN:STANDARD
TZOFFSETFROM:-0500
TZOFFSETTO:-0600
TZNAME:CST
DTSTART:20221106T070000
END:STANDARD
BEGIN:DAYLIGHT
TZOFFSETFROM:-0600
TZOFFSETTO:-0500
TZNAME:CDT
DTSTART:20230312T080000
END:DAYLIGHT
BEGIN:STANDARD
TZOFFSETFROM:-0500
TZOFFSETTO:-0600
TZNAME:CST
DTSTART:20231105T070000
END:STANDARD
BEGIN:DAYLIGHT
TZOFFSETFROM:-0600
TZOFFSETTO:-0500
TZNAME:CDT
DTSTART:20240310T080000
END:DAYLIGHT
BEGIN:STANDARD
TZOFFSETFROM:-0500
TZOFFSETTO:-0600
TZNAME:CST
DTSTART:20241103T070000
END:STANDARD
END:VTIMEZONE
BEGIN:VEVENT
DTSTART;TZID=America/Chicago:20231121T080000
DTEND;TZID=America/Chicago:20231121T170000
DTSTAMP:20260419T210428
CREATED:20231101T183921Z
LAST-MODIFIED:20231101T183921Z
UID:10000509-1700553600-1700586000@txsfst.org
SUMMARY:Wise Co FREE 8 – HR Advanced DWI Course
DESCRIPTION:The goal of the Advanced DWI Investigation & Enforcement course is to improve the skill of law enforcement officers in detecting and arresting impaired driving offenders and preparing cases for prosecution. This 8-hour course was designed to supplement other impaired driving enforcement courses such as the Standardized Field Sobriety Testing (SFST) Practitioner\, SFST Refresher\, and the Advanced Roadside Impaired Driving Enforcement (ARIDE) courses. \nThe overall mission of this program is to decrease alcohol-related crashes\, injuries\, and deaths by promoting DWI deterrence and enforcement. \n***THIS COURSE WILL NOT GIVE YOU CREDIT FOR YOUR SFST UPDATE***
URL:https://txsfst.org/event/wise-co-free-8-hr-advanced-dwi-course/
LOCATION:Wise County EMS\, 1101 W Rose Ave\, Decatur\, TX\, 76234\, United States
CATEGORIES:Advanced DWI 3402
ATTACH;FMTTYPE=image/png:https://txsfst.org/wp-content/uploads/2022/10/Advanced-DWI-flag.png
GEO:33.2342834;-97.5861393
X-APPLE-STRUCTURED-LOCATION;VALUE=URI;X-ADDRESS=Wise County EMS 1101 W Rose Ave Decatur TX 76234 United States;X-APPLE-RADIUS=500;X-TITLE=1101 W Rose Ave:geo:-97.5861393,33.2342834
END:VEVENT
BEGIN:VEVENT
DTSTART;TZID=America/Chicago:20231120T080000
DTEND;TZID=America/Chicago:20231120T170000
DTSTAMP:20260419T210428
CREATED:20231101T174124Z
LAST-MODIFIED:20231113T203434Z
UID:10000502-1700467200-1700499600@txsfst.org
SUMMARY:CANCELLED Wise Co FREE 8 – HR SFST Refresher Course
DESCRIPTION:This is an 8-hour SFST refresher course designed to improve the administration and overall consistency of the Standardized Field Sobriety Test (SFST) Battery. Our mission is to decrease alcohol-related crashes\, injuries\, and deaths by promoting DWI deterrence and enforcement proficiency. \n*Successful completion of the Standardized Field Sobriety Testing Practitioner Course is a prerequisite.
URL:https://txsfst.org/event/wise-co-free-8-hr-sfst-refresher-course-2/
LOCATION:Wise County EMS\, 1101 W Rose Ave\, Decatur\, TX\, 76234\, United States
CATEGORIES:8-HR SFST Refresher 2178/2177
ATTACH;FMTTYPE=image/png:https://txsfst.org/wp-content/uploads/2022/10/Refresher-Flag.png
GEO:33.2342834;-97.5861393
X-APPLE-STRUCTURED-LOCATION;VALUE=URI;X-ADDRESS=Wise County EMS 1101 W Rose Ave Decatur TX 76234 United States;X-APPLE-RADIUS=500;X-TITLE=1101 W Rose Ave:geo:-97.5861393,33.2342834
END:VEVENT
BEGIN:VEVENT
DTSTART;TZID=America/Chicago:20230306T080000
DTEND;TZID=America/Chicago:20230306T170000
DTSTAMP:20260419T210428
CREATED:20230208T224424Z
LAST-MODIFIED:20230209T165924Z
UID:10000455-1678089600-1678122000@txsfst.org
SUMMARY:Wise County FREE 8 – HR SFST Refresher Course
DESCRIPTION:This is an 8-hour SFST refresher course designed to improve the administration and overall consistency of the Standardized Field Sobriety Test (SFST) Battery. Our mission is to decrease alcohol-related crashes\, injuries\, and deaths by promoting DWI deterrence and enforcement proficiency. \n*Successful completion of the Standardized Field Sobriety Testing Practitioner Course is a prerequisite.
URL:https://txsfst.org/event/wise-county-free-8-hr-sfst-refresher-course/
LOCATION:Wise County EMS\, 1101 W Rose Ave\, Decatur\, TX\, 76234\, United States
CATEGORIES:8-HR SFST Refresher 2178/2177
ATTACH;FMTTYPE=image/png:https://txsfst.org/wp-content/uploads/2022/10/Refresher-Flag.png
GEO:33.2342834;-97.5861393
X-APPLE-STRUCTURED-LOCATION;VALUE=URI;X-ADDRESS=Wise County EMS 1101 W Rose Ave Decatur TX 76234 United States;X-APPLE-RADIUS=500;X-TITLE=1101 W Rose Ave:geo:-97.5861393,33.2342834
END:VEVENT
END:VCALENDAR