BEGIN:VCALENDAR
VERSION:2.0
PRODID:-//Texas SFST - ECPv6.15.20//NONSGML v1.0//EN
CALSCALE:GREGORIAN
METHOD:PUBLISH
X-WR-CALNAME:Texas SFST
X-ORIGINAL-URL:https://txsfst.org
X-WR-CALDESC:Events for Texas SFST
REFRESH-INTERVAL;VALUE=DURATION:PT1H
X-Robots-Tag:noindex
X-PUBLISHED-TTL:PT1H
BEGIN:VTIMEZONE
TZID:America/Chicago
BEGIN:DAYLIGHT
TZOFFSETFROM:-0600
TZOFFSETTO:-0500
TZNAME:CDT
DTSTART:20200308T080000
END:DAYLIGHT
BEGIN:STANDARD
TZOFFSETFROM:-0500
TZOFFSETTO:-0600
TZNAME:CST
DTSTART:20201101T070000
END:STANDARD
BEGIN:DAYLIGHT
TZOFFSETFROM:-0600
TZOFFSETTO:-0500
TZNAME:CDT
DTSTART:20210314T080000
END:DAYLIGHT
BEGIN:STANDARD
TZOFFSETFROM:-0500
TZOFFSETTO:-0600
TZNAME:CST
DTSTART:20211107T070000
END:STANDARD
BEGIN:DAYLIGHT
TZOFFSETFROM:-0600
TZOFFSETTO:-0500
TZNAME:CDT
DTSTART:20220313T080000
END:DAYLIGHT
BEGIN:STANDARD
TZOFFSETFROM:-0500
TZOFFSETTO:-0600
TZNAME:CST
DTSTART:20221106T070000
END:STANDARD
BEGIN:DAYLIGHT
TZOFFSETFROM:-0600
TZOFFSETTO:-0500
TZNAME:CDT
DTSTART:20230312T080000
END:DAYLIGHT
BEGIN:STANDARD
TZOFFSETFROM:-0500
TZOFFSETTO:-0600
TZNAME:CST
DTSTART:20231105T070000
END:STANDARD
BEGIN:DAYLIGHT
TZOFFSETFROM:-0600
TZOFFSETTO:-0500
TZNAME:CDT
DTSTART:20240310T080000
END:DAYLIGHT
BEGIN:STANDARD
TZOFFSETFROM:-0500
TZOFFSETTO:-0600
TZNAME:CST
DTSTART:20241103T070000
END:STANDARD
END:VTIMEZONE
BEGIN:VEVENT
DTSTART;TZID=America/Chicago:20230227T080000
DTEND;TZID=America/Chicago:20230303T170000
DTSTAMP:20260425T165200
CREATED:20221010T154945Z
LAST-MODIFIED:20230223T144313Z
UID:10000198-1677484800-1677862800@txsfst.org
SUMMARY:FULL Williamson Co FREE 50-HR SFST Instructor Course - 1016
DESCRIPTION:THIS COURSE IS FULL – WE ARE NO LONGER TAKING REGISTRATIONS \nNO ONLINE REGISTRATIONS! The requirements listed below must be verified by submitting a copy of each attendee’s TCOLE Personal Status Report to the SFST State Coordinator (David.mcgarah@txsfst.org). In order to be placed on the attendee list\, you will have to have ALL requirements already met for the date of the course (ie Two year refresher MUST NOT expire before 3/2023). \nThe Texas SFST Training Program offers a FREE 50-hour Standardized Field Sobriety Testing Instructor Course (TCOLE 1016) to licensed Texas Peace Officers. This training follows the NHTSA and IACP nationally standardized curriculum and prepares Texas Peace Officers to instruct fellow officers on how to properly administer and interpret the results of the Standardized Field Sobriety Testing battery. This is a five day\, 50-hour course that will require full participation and demonstration\, as well as time dedicated outside of the classroom. Wet labs with live drinkers will be utilized in this course to give officers additional “real life” experience and practice in administering the SFST test battery. \nPlease note: \nAll participants must successfully pass a proficiency exam at the beginning of this course in order to continue. Those who do not pass\, will be dismissed and will not receive any course credit. \nIn order to be considered eligible to attend this course\, registrants must meet the following criteria: \n1.  Currently commissioned Texas Peace Officer \n2.  Successful completion of the National Highway Transportation Safety Administration (NHTSA) Standardized Field Sobriety Testing Practitioner Course\, 2176 or 2067; or the SFST taken with Academy \n3.  At least three years of experience as a Standardized Field Sobriety Testing practitioner \n4.  Current basic instructor license or certificate issued by TCOLE (40 HR) \n5.  SFST Refresher update (an ARIDE or DRE update class is acceptable as well) within the last 2 years \n*The above criteria must be verified by submitting a copy of each attendee’s TCOLE Personal Status Report to the SFST State Coordinator (David.mcgarah@txsfst.org). In order to be placed on the attendee list\, you will have to have ALL requirements already met for the date of the course (ie Two year refresher MUST NOT expire before 3/2023) \nThose not meeting these criteria will not be allowed to sign up for this course.* \nCourse Schedule: \nMonday 2-27-2023: 8:00AM-5:00PM \nTuesday 2-28-2023: 8:00AM-9:00PM \nWednesday 3-1-2023: 8:00AM-9:00PM \nThursday 3-2-2023: 8:00AM-5:00PM \nFriday 3-3-2023: 8:00AM-5:00PM \n2 additional hours are to be spent outside of the classroom as preparation time for presentations. \n*Please note this tentative schedule and plan accordingly.
URL:https://txsfst.org/event/4068/
LOCATION:Williamson County Sheriff’s Office DAWG\, 8160 Chandler Rd\, Hutto\, TX\, 78634\, United States
CATEGORIES:50-HR SFST Instructor Course 1016
ATTACH;FMTTYPE=image/png:https://txsfst.org/wp-content/uploads/2022/10/Instructor-School-Flag.png
GEO:30.5957139;-97.5424635
X-APPLE-STRUCTURED-LOCATION;VALUE=URI;X-ADDRESS=Williamson County Sheriff’s Office DAWG 8160 Chandler Rd Hutto TX 78634 United States;X-APPLE-RADIUS=500;X-TITLE=8160 Chandler Rd:geo:-97.5424635,30.5957139
END:VEVENT
BEGIN:VEVENT
DTSTART;TZID=America/Chicago:20220825T080000
DTEND;TZID=America/Chicago:20220825T170000
DTSTAMP:20260425T165200
CREATED:20220706T212039Z
LAST-MODIFIED:20220706T212039Z
UID:10000391-1661414400-1661446800@txsfst.org
SUMMARY:Wilco FREE 8 – HR Advanced DWI Course
DESCRIPTION:The goal of the Advanced DWI Investigation & Enforcement course is to improve the skill of law enforcement officers in detecting and arresting impaired driving offenders and preparing cases for prosecution. This 8-hour course was designed to supplement other impaired driving enforcement courses such as the Standardized Field Sobriety Testing (SFST) Practitioner\, SFST Refresher\, and the Advanced Roadside Impaired Driving Enforcement (ARIDE) courses. \nThe overall mission of this program is to decrease alcohol-related crashes\, injuries\, and deaths by promoting DWI deterrence and enforcement.
URL:https://txsfst.org/event/wilco-free-8-hr-advanced-dwi-course-2/2022-08-25/
LOCATION:Williamson County Sheriff’s Office DAWG\, 8160 Chandler Rd\, Hutto\, TX\, 78634\, United States
CATEGORIES:Advanced DWI 3402
ATTACH;FMTTYPE=image/jpeg:https://txsfst.org/wp-content/uploads/2021/11/SFST-Logo-N-O-1.jpg
GEO:30.5957139;-97.5424635
X-APPLE-STRUCTURED-LOCATION;VALUE=URI;X-ADDRESS=Williamson County Sheriff’s Office DAWG 8160 Chandler Rd Hutto TX 78634 United States;X-APPLE-RADIUS=500;X-TITLE=8160 Chandler Rd:geo:-97.5424635,30.5957139
END:VEVENT
BEGIN:VEVENT
DTSTART;TZID=America/Chicago:20220811T080000
DTEND;TZID=America/Chicago:20220811T170000
DTSTAMP:20260425T165200
CREATED:20220706T212039Z
LAST-MODIFIED:20220706T212039Z
UID:10000390-1660204800-1660237200@txsfst.org
SUMMARY:Wilco FREE 8 – HR Advanced DWI Course
DESCRIPTION:The goal of the Advanced DWI Investigation & Enforcement course is to improve the skill of law enforcement officers in detecting and arresting impaired driving offenders and preparing cases for prosecution. This 8-hour course was designed to supplement other impaired driving enforcement courses such as the Standardized Field Sobriety Testing (SFST) Practitioner\, SFST Refresher\, and the Advanced Roadside Impaired Driving Enforcement (ARIDE) courses. \nThe overall mission of this program is to decrease alcohol-related crashes\, injuries\, and deaths by promoting DWI deterrence and enforcement.
URL:https://txsfst.org/event/wilco-free-8-hr-advanced-dwi-course-2/2022-08-11/
LOCATION:Williamson County Sheriff’s Office DAWG\, 8160 Chandler Rd\, Hutto\, TX\, 78634\, United States
CATEGORIES:Advanced DWI 3402
ATTACH;FMTTYPE=image/jpeg:https://txsfst.org/wp-content/uploads/2021/11/SFST-Logo-N-O-1.jpg
GEO:30.5957139;-97.5424635
X-APPLE-STRUCTURED-LOCATION;VALUE=URI;X-ADDRESS=Williamson County Sheriff’s Office DAWG 8160 Chandler Rd Hutto TX 78634 United States;X-APPLE-RADIUS=500;X-TITLE=8160 Chandler Rd:geo:-97.5424635,30.5957139
END:VEVENT
BEGIN:VEVENT
DTSTART;TZID=America/Chicago:20220714T080000
DTEND;TZID=America/Chicago:20220714T170000
DTSTAMP:20260425T165200
CREATED:20220617T184050Z
LAST-MODIFIED:20220617T184050Z
UID:10000384-1657785600-1657818000@txsfst.org
SUMMARY:Wilco FREE 8 – HR SFST Refresher Course
DESCRIPTION:This is an 8-hour SFST refresher course designed to improve the administration and overall consistency of the Standardized Field Sobriety Test (SFST) Battery. Our mission is to decrease alcohol-related crashes\, injuries\, and deaths by promoting DWI deterrence and enforcement proficiency. \n*Successful completion of the Standardized Field Sobriety Testing Practitioner Course is a prerequisite.
URL:https://txsfst.org/event/wilco-free-8-hr-sfst-refresher-course/
LOCATION:Williamson County Sheriff’s Office DAWG\, 8160 Chandler Rd\, Hutto\, TX\, 78634\, United States
CATEGORIES:8-HR SFST Refresher 2178/2177
ATTACH;FMTTYPE=image/jpeg:https://txsfst.org/wp-content/uploads/2021/11/SFST-Logo-N-O-1.jpg
GEO:30.5957139;-97.5424635
X-APPLE-STRUCTURED-LOCATION;VALUE=URI;X-ADDRESS=Williamson County Sheriff’s Office DAWG 8160 Chandler Rd Hutto TX 78634 United States;X-APPLE-RADIUS=500;X-TITLE=8160 Chandler Rd:geo:-97.5424635,30.5957139
END:VEVENT
BEGIN:VEVENT
DTSTART;TZID=America/Chicago:20220503T080000
DTEND;TZID=America/Chicago:20220503T170000
DTSTAMP:20260425T165200
CREATED:20220216T191609Z
LAST-MODIFIED:20220422T210540Z
UID:10000320-1651564800-1651597200@txsfst.org
SUMMARY:CANCELLED Wilco FREE 8 – HR Advanced DWI Course
DESCRIPTION:THIS COURSE HAS BEEN CANCELLED \nThe goal of the Advanced DWI Investigation & Enforcement course is to improve the skill of law enforcement officers in detecting and arresting impaired driving offenders and preparing cases for prosecution. This 8-hour course was designed to supplement other impaired driving enforcement courses such as the Standardized Field Sobriety Testing (SFST) Practitioner\, SFST Refresher\, and the Advanced Roadside Impaired Driving Enforcement (ARIDE) courses. \nThe overall mission of this program is to decrease alcohol-related crashes\, injuries\, and deaths by promoting DWI deterrence and enforcement.
URL:https://txsfst.org/event/wilco-free-8-hr-advanced-dwi-course/
LOCATION:Williamson County Sheriff’s Office DAWG\, 8160 Chandler Rd\, Hutto\, TX\, 78634\, United States
CATEGORIES:Advanced DWI 3402
ATTACH;FMTTYPE=image/jpeg:https://txsfst.org/wp-content/uploads/2021/11/SFST-Logo-N-O-1.jpg
GEO:30.5957139;-97.5424635
X-APPLE-STRUCTURED-LOCATION;VALUE=URI;X-ADDRESS=Williamson County Sheriff’s Office DAWG 8160 Chandler Rd Hutto TX 78634 United States;X-APPLE-RADIUS=500;X-TITLE=8160 Chandler Rd:geo:-97.5424635,30.5957139
END:VEVENT
BEGIN:VEVENT
DTSTART;TZID=America/Chicago:20210720T080000
DTEND;TZID=America/Chicago:20210720T170000
DTSTAMP:20260425T165200
CREATED:20210525T211340Z
LAST-MODIFIED:20210525T211340Z
UID:10000202-1626768000-1626800400@txsfst.org
SUMMARY:Williamson Co - FREE 8 – HR SFST Refresher Course
DESCRIPTION:This is an 8-hour SFST refresher course designed to improve the administration and overall consistency of the Standardized Field Sobriety Test (SFST) Battery. Our mission is to decrease alcohol-related crashes\, injuries\, and deaths by promoting DWI deterrence and enforcement proficiency. \n*Successful completion of the Standardized Field Sobriety Testing Practitioner Course is a prerequisite.
URL:https://txsfst.org/event/williamson-co-free-8-hr-sfst-refresher-course-3/
LOCATION:Williamson County Sheriff’s Office DAWG\, 8160 Chandler Rd\, Hutto\, TX\, 78634\, United States
CATEGORIES:8-HR SFST Refresher 2178/2177
ATTACH;FMTTYPE=:
GEO:30.5957139;-97.5424635
X-APPLE-STRUCTURED-LOCATION;VALUE=URI;X-ADDRESS=Williamson County Sheriff’s Office DAWG 8160 Chandler Rd Hutto TX 78634 United States;X-APPLE-RADIUS=500;X-TITLE=8160 Chandler Rd:geo:-97.5424635,30.5957139
END:VEVENT
BEGIN:VEVENT
DTSTART;TZID=America/Chicago:20210608T080000
DTEND;TZID=America/Chicago:20210608T170000
DTSTAMP:20260425T165200
CREATED:20210408T152721Z
LAST-MODIFIED:20210408T152721Z
UID:10000010-1623139200-1623171600@txsfst.org
SUMMARY:Williamson Co - FREE 8 – HR SFST Refresher Course
DESCRIPTION:This is an 8-hour SFST refresher course designed to improve the administration and overall consistency of the Standardized Field Sobriety Test (SFST) Battery. Our mission is to decrease alcohol-related crashes\, injuries\, and deaths by promoting DWI deterrence and enforcement proficiency. \n*Successful completion of the Standardized Field Sobriety Testing Practitioner Course is a prerequisite.
URL:https://txsfst.org/event/williamson-co-free-8-hr-sfst-refresher-course-2/
LOCATION:Williamson County Sheriff’s Office DAWG\, 8160 Chandler Rd\, Hutto\, TX\, 78634\, United States
CATEGORIES:8-HR SFST Refresher 2178/2177
ATTACH;FMTTYPE=:
GEO:30.5957139;-97.5424635
X-APPLE-STRUCTURED-LOCATION;VALUE=URI;X-ADDRESS=Williamson County Sheriff’s Office DAWG 8160 Chandler Rd Hutto TX 78634 United States;X-APPLE-RADIUS=500;X-TITLE=8160 Chandler Rd:geo:-97.5424635,30.5957139
END:VEVENT
BEGIN:VEVENT
DTSTART;TZID=America/Chicago:20210324T080000
DTEND;TZID=America/Chicago:20210324T170000
DTSTAMP:20260425T165200
CREATED:20210302T193810Z
LAST-MODIFIED:20210302T193810Z
UID:10000055-1616572800-1616605200@txsfst.org
SUMMARY:Williamson County FREE 8 – HR SFST Refresher Course
DESCRIPTION:This is an 8-hour SFST refresher course designed to improve the administration and overall consistency of the Standardized Field Sobriety Test (SFST) Battery. Our mission is to decrease alcohol-related crashes\, injuries\, and deaths by promoting DWI deterrence and enforcement proficiency. \n*Successful completion of the Standardized Field Sobriety Testing Practitioner Course is a prerequisite.
URL:https://txsfst.org/event/williamson-county-free-8-hr-sfst-refresher-course/
LOCATION:Williamson County Sheriff’s Office DAWG\, 8160 Chandler Rd\, Hutto\, TX\, 78634\, United States
CATEGORIES:8-HR SFST Refresher 2178/2177
ATTACH;FMTTYPE=:
GEO:30.5957139;-97.5424635
X-APPLE-STRUCTURED-LOCATION;VALUE=URI;X-ADDRESS=Williamson County Sheriff’s Office DAWG 8160 Chandler Rd Hutto TX 78634 United States;X-APPLE-RADIUS=500;X-TITLE=8160 Chandler Rd:geo:-97.5424635,30.5957139
END:VEVENT
BEGIN:VEVENT
DTSTART;TZID=America/Chicago:20210122T080000
DTEND;TZID=America/Chicago:20210122T170000
DTSTAMP:20260425T165200
CREATED:20201222T192651Z
LAST-MODIFIED:20201222T192651Z
UID:10000107-1611302400-1611334800@txsfst.org
SUMMARY:Williamson Co FREE 8 – HR SFST Refresher Course
DESCRIPTION:This is an 8-hour SFST refresher course designed to improve the administration and overall consistency of the Standardized Field Sobriety Test (SFST) Battery. Our mission is to decrease alcohol-related crashes\, injuries\, and deaths by promoting DWI deterrence and enforcement proficiency. \n*Successful completion of the Standardized Field Sobriety Testing Practitioner Course is a prerequisite.
URL:https://txsfst.org/event/williamson-co-free-8-hr-sfst-refresher-course/
LOCATION:Williamson County Sheriff’s Office DAWG\, 8160 Chandler Rd\, Hutto\, TX\, 78634\, United States
CATEGORIES:8-HR SFST Refresher 2178/2177
GEO:30.5957139;-97.5424635
X-APPLE-STRUCTURED-LOCATION;VALUE=URI;X-ADDRESS=Williamson County Sheriff’s Office DAWG 8160 Chandler Rd Hutto TX 78634 United States;X-APPLE-RADIUS=500;X-TITLE=8160 Chandler Rd:geo:-97.5424635,30.5957139
END:VEVENT
END:VCALENDAR