BEGIN:VCALENDAR
VERSION:2.0
PRODID:-//Texas SFST - ECPv6.15.20//NONSGML v1.0//EN
CALSCALE:GREGORIAN
METHOD:PUBLISH
X-WR-CALNAME:Texas SFST
X-ORIGINAL-URL:https://txsfst.org
X-WR-CALDESC:Events for Texas SFST
REFRESH-INTERVAL;VALUE=DURATION:PT1H
X-Robots-Tag:noindex
X-PUBLISHED-TTL:PT1H
BEGIN:VTIMEZONE
TZID:America/Chicago
BEGIN:DAYLIGHT
TZOFFSETFROM:-0600
TZOFFSETTO:-0500
TZNAME:CDT
DTSTART:20250309T080000
END:DAYLIGHT
BEGIN:STANDARD
TZOFFSETFROM:-0500
TZOFFSETTO:-0600
TZNAME:CST
DTSTART:20251102T070000
END:STANDARD
BEGIN:DAYLIGHT
TZOFFSETFROM:-0600
TZOFFSETTO:-0500
TZNAME:CDT
DTSTART:20260308T080000
END:DAYLIGHT
BEGIN:STANDARD
TZOFFSETFROM:-0500
TZOFFSETTO:-0600
TZNAME:CST
DTSTART:20261101T070000
END:STANDARD
BEGIN:DAYLIGHT
TZOFFSETFROM:-0600
TZOFFSETTO:-0500
TZNAME:CDT
DTSTART:20270314T080000
END:DAYLIGHT
BEGIN:STANDARD
TZOFFSETFROM:-0500
TZOFFSETTO:-0600
TZNAME:CST
DTSTART:20271107T070000
END:STANDARD
END:VTIMEZONE
BEGIN:VEVENT
DTSTART;TZID=America/Chicago:20260610T080000
DTEND;TZID=America/Chicago:20260610T170000
DTSTAMP:20260422T195700
CREATED:20260420T140440Z
LAST-MODIFIED:20260420T140440Z
UID:10000877-1781078400-1781110800@txsfst.org
SUMMARY:Lubbock FREE 8 – HR SFST Refresher Course
DESCRIPTION:This is an 8-hour SFST refresher course designed to improve the administration and overall consistency of the Standardized Field Sobriety Test (SFST) Battery. Our mission is to decrease alcohol-related crashes\, injuries\, and deaths by promoting DWI deterrence and enforcement proficiency. \n*Successful completion of the Standardized Field Sobriety Testing Practitioner Course is a prerequisite.
URL:https://txsfst.org/event/lubbock-free-8-hr-sfst-refresher-course-4/2026-06-10/
LOCATION:Texas Tech Police Department (EOC Classroom)\, 413 Flint Ave\, Lubbock\, TX\, 79415\, United States
CATEGORIES:8-HR SFST Refresher 2178/2177
ATTACH;FMTTYPE=image/png:https://txsfst.org/wp-content/uploads/2022/10/Refresher-Flag.png
GEO:33.5918171;-101.879768
X-APPLE-STRUCTURED-LOCATION;VALUE=URI;X-ADDRESS=Texas Tech Police Department (EOC Classroom) 413 Flint Ave Lubbock TX 79415 United States;X-APPLE-RADIUS=500;X-TITLE=413 Flint Ave:geo:-101.879768,33.5918171
END:VEVENT
BEGIN:VEVENT
DTSTART;TZID=America/Chicago:20260622T080000
DTEND;TZID=America/Chicago:20260622T170000
DTSTAMP:20260422T195700
CREATED:20260420T140440Z
LAST-MODIFIED:20260420T140440Z
UID:10000878-1782115200-1782147600@txsfst.org
SUMMARY:Lubbock FREE 8 – HR SFST Refresher Course
DESCRIPTION:This is an 8-hour SFST refresher course designed to improve the administration and overall consistency of the Standardized Field Sobriety Test (SFST) Battery. Our mission is to decrease alcohol-related crashes\, injuries\, and deaths by promoting DWI deterrence and enforcement proficiency. \n*Successful completion of the Standardized Field Sobriety Testing Practitioner Course is a prerequisite.
URL:https://txsfst.org/event/lubbock-free-8-hr-sfst-refresher-course-4/2026-06-22/
LOCATION:Texas Tech Police Department (EOC Classroom)\, 413 Flint Ave\, Lubbock\, TX\, 79415\, United States
CATEGORIES:8-HR SFST Refresher 2178/2177
ATTACH;FMTTYPE=image/png:https://txsfst.org/wp-content/uploads/2022/10/Refresher-Flag.png
GEO:33.5918171;-101.879768
X-APPLE-STRUCTURED-LOCATION;VALUE=URI;X-ADDRESS=Texas Tech Police Department (EOC Classroom) 413 Flint Ave Lubbock TX 79415 United States;X-APPLE-RADIUS=500;X-TITLE=413 Flint Ave:geo:-101.879768,33.5918171
END:VEVENT
END:VCALENDAR