BEGIN:VCALENDAR
VERSION:2.0
PRODID:-//Texas SFST - ECPv6.15.20//NONSGML v1.0//EN
CALSCALE:GREGORIAN
METHOD:PUBLISH
X-WR-CALNAME:Texas SFST
X-ORIGINAL-URL:https://txsfst.org
X-WR-CALDESC:Events for Texas SFST
REFRESH-INTERVAL;VALUE=DURATION:PT1H
X-Robots-Tag:noindex
X-PUBLISHED-TTL:PT1H
BEGIN:VTIMEZONE
TZID:America/Chicago
BEGIN:DAYLIGHT
TZOFFSETFROM:-0600
TZOFFSETTO:-0500
TZNAME:CDT
DTSTART:20200308T080000
END:DAYLIGHT
BEGIN:STANDARD
TZOFFSETFROM:-0500
TZOFFSETTO:-0600
TZNAME:CST
DTSTART:20201101T070000
END:STANDARD
BEGIN:DAYLIGHT
TZOFFSETFROM:-0600
TZOFFSETTO:-0500
TZNAME:CDT
DTSTART:20210314T080000
END:DAYLIGHT
BEGIN:STANDARD
TZOFFSETFROM:-0500
TZOFFSETTO:-0600
TZNAME:CST
DTSTART:20211107T070000
END:STANDARD
BEGIN:DAYLIGHT
TZOFFSETFROM:-0600
TZOFFSETTO:-0500
TZNAME:CDT
DTSTART:20220313T080000
END:DAYLIGHT
BEGIN:STANDARD
TZOFFSETFROM:-0500
TZOFFSETTO:-0600
TZNAME:CST
DTSTART:20221106T070000
END:STANDARD
BEGIN:DAYLIGHT
TZOFFSETFROM:-0600
TZOFFSETTO:-0500
TZNAME:CDT
DTSTART:20230312T080000
END:DAYLIGHT
BEGIN:STANDARD
TZOFFSETFROM:-0500
TZOFFSETTO:-0600
TZNAME:CST
DTSTART:20231105T070000
END:STANDARD
BEGIN:DAYLIGHT
TZOFFSETFROM:-0600
TZOFFSETTO:-0500
TZNAME:CDT
DTSTART:20240310T080000
END:DAYLIGHT
BEGIN:STANDARD
TZOFFSETFROM:-0500
TZOFFSETTO:-0600
TZNAME:CST
DTSTART:20241103T070000
END:STANDARD
BEGIN:DAYLIGHT
TZOFFSETFROM:-0600
TZOFFSETTO:-0500
TZNAME:CDT
DTSTART:20250309T080000
END:DAYLIGHT
BEGIN:STANDARD
TZOFFSETFROM:-0500
TZOFFSETTO:-0600
TZNAME:CST
DTSTART:20251102T070000
END:STANDARD
BEGIN:DAYLIGHT
TZOFFSETFROM:-0600
TZOFFSETTO:-0500
TZNAME:CDT
DTSTART:20260308T080000
END:DAYLIGHT
BEGIN:STANDARD
TZOFFSETFROM:-0500
TZOFFSETTO:-0600
TZNAME:CST
DTSTART:20261101T070000
END:STANDARD
END:VTIMEZONE
BEGIN:VEVENT
DTSTART;TZID=America/Chicago:20250318T080000
DTEND;TZID=America/Chicago:20250318T170000
DTSTAMP:20260421T043354
CREATED:20241216T170925Z
LAST-MODIFIED:20250204T155219Z
UID:10000638-1742284800-1742317200@txsfst.org
SUMMARY:Laredo FREE 8 – HR SFST Refresher Course
DESCRIPTION:This is an 8-hour SFST refresher course designed to improve the administration and overall consistency of the Standardized Field Sobriety Test (SFST) Battery. Our mission is to decrease alcohol-related crashes\, injuries\, and deaths by promoting DWI deterrence and enforcement proficiency. \n*Successful completion of the Standardized Field Sobriety Testing Practitioner Course is a prerequisite.
URL:https://txsfst.org/event/laredo-free-8-hr-sfst-refresher-course-5/
LOCATION:Texas A&M International University\, 5201 University Blvd Student Center Room 231\, Laredo\, TX\, 78041\, United States
CATEGORIES:8-HR SFST Refresher 2178/2177
ATTACH;FMTTYPE=image/png:https://txsfst.org/wp-content/uploads/2022/10/Refresher-Flag.png
GEO:27.5715725;-99.4360024
X-APPLE-STRUCTURED-LOCATION;VALUE=URI;X-ADDRESS=Texas A&M International University 5201 University Blvd Student Center Room 231 Laredo TX 78041 United States;X-APPLE-RADIUS=500;X-TITLE=5201 University Blvd Student Center Room 231:geo:-99.4360024,27.5715725
END:VEVENT
BEGIN:VEVENT
DTSTART;TZID=America/Chicago:20220204T080000
DTEND;TZID=America/Chicago:20220204T170000
DTSTAMP:20260421T043354
CREATED:20220110T194416Z
LAST-MODIFIED:20220110T194416Z
UID:10000301-1643961600-1643994000@txsfst.org
SUMMARY:Laredo FREE 8 – HR SFST Refresher Course
DESCRIPTION:This is an 8-hour SFST refresher course designed to improve the administration and overall consistency of the Standardized Field Sobriety Test (SFST) Battery. Our mission is to decrease alcohol-related crashes\, injuries\, and deaths by promoting DWI deterrence and enforcement proficiency. \n*Successful completion of the Standardized Field Sobriety Testing Practitioner Course is a prerequisite.
URL:https://txsfst.org/event/laredo-free-8-hr-sfst-refresher-course-2/
LOCATION:Texas A&M International University\, 5201 University Blvd Student Center Room 231\, Laredo\, TX\, 78041\, United States
CATEGORIES:8-HR SFST Refresher 2178/2177
ATTACH;FMTTYPE=image/jpeg:https://txsfst.org/wp-content/uploads/2021/10/SFST-Logo-N-O-e1635879206512.jpg
GEO:27.5715725;-99.4360024
X-APPLE-STRUCTURED-LOCATION;VALUE=URI;X-ADDRESS=Texas A&M International University 5201 University Blvd Student Center Room 231 Laredo TX 78041 United States;X-APPLE-RADIUS=500;X-TITLE=5201 University Blvd Student Center Room 231:geo:-99.4360024,27.5715725
END:VEVENT
BEGIN:VEVENT
DTSTART;TZID=America/Chicago:20211104T080000
DTEND;TZID=America/Chicago:20211104T170000
DTSTAMP:20260421T043354
CREATED:20210923T143049Z
LAST-MODIFIED:20211108T000021Z
UID:10000228-1636012800-1636045200@txsfst.org
SUMMARY:Laredo FREE 8 – HR SFST Refresher Course
DESCRIPTION:This is an 8-hour SFST refresher course designed to improve the administration and overall consistency of the Standardized Field Sobriety Test (SFST) Battery. Our mission is to decrease alcohol-related crashes\, injuries\, and deaths by promoting DWI deterrence and enforcement proficiency. \n*Successful completion of the Standardized Field Sobriety Testing Practitioner Course is a prerequisite.
URL:https://txsfst.org/event/laredo-free-8-hr-sfst-refresher-course/
LOCATION:Texas A&M International University\, 5201 University Blvd Student Center Room 231\, Laredo\, TX\, 78041\, United States
CATEGORIES:8-HR SFST Refresher 2178/2177
ATTACH;FMTTYPE=image/jpeg:https://txsfst.org/wp-content/uploads/2021/10/SFST-Logo-N-O-3.jpg
GEO:27.5715725;-99.4360024
X-APPLE-STRUCTURED-LOCATION;VALUE=URI;X-ADDRESS=Texas A&M International University 5201 University Blvd Student Center Room 231 Laredo TX 78041 United States;X-APPLE-RADIUS=500;X-TITLE=5201 University Blvd Student Center Room 231:geo:-99.4360024,27.5715725
END:VEVENT
END:VCALENDAR