BEGIN:VCALENDAR
VERSION:2.0
PRODID:-//Texas SFST - ECPv6.15.20//NONSGML v1.0//EN
CALSCALE:GREGORIAN
METHOD:PUBLISH
X-ORIGINAL-URL:https://txsfst.org
X-WR-CALDESC:Events for Texas SFST
REFRESH-INTERVAL;VALUE=DURATION:PT1H
X-Robots-Tag:noindex
X-PUBLISHED-TTL:PT1H
BEGIN:VTIMEZONE
TZID:America/Chicago
BEGIN:DAYLIGHT
TZOFFSETFROM:-0600
TZOFFSETTO:-0500
TZNAME:CDT
DTSTART:20220313T080000
END:DAYLIGHT
BEGIN:STANDARD
TZOFFSETFROM:-0500
TZOFFSETTO:-0600
TZNAME:CST
DTSTART:20221106T070000
END:STANDARD
BEGIN:DAYLIGHT
TZOFFSETFROM:-0600
TZOFFSETTO:-0500
TZNAME:CDT
DTSTART:20230312T080000
END:DAYLIGHT
BEGIN:STANDARD
TZOFFSETFROM:-0500
TZOFFSETTO:-0600
TZNAME:CST
DTSTART:20231105T070000
END:STANDARD
BEGIN:DAYLIGHT
TZOFFSETFROM:-0600
TZOFFSETTO:-0500
TZNAME:CDT
DTSTART:20240310T080000
END:DAYLIGHT
BEGIN:STANDARD
TZOFFSETFROM:-0500
TZOFFSETTO:-0600
TZNAME:CST
DTSTART:20241103T070000
END:STANDARD
END:VTIMEZONE
BEGIN:VEVENT
DTSTART;TZID=America/Chicago:20230321T080000
DTEND;TZID=America/Chicago:20230321T170000
DTSTAMP:20260422T144721
CREATED:20221103T155455Z
LAST-MODIFIED:20221103T155455Z
UID:10000425-1679385600-1679418000@txsfst.org
SUMMARY:Midland FREE 8 – HR Advanced DWI Course
DESCRIPTION:The goal of the Advanced DWI Investigation & Enforcement course is to improve the skill of law enforcement officers in detecting and arresting impaired driving offenders and preparing cases for prosecution. This 8-hour course was designed to supplement other impaired driving enforcement courses such as the Standardized Field Sobriety Testing (SFST) Practitioner\, SFST Refresher\, and the Advanced Roadside Impaired Driving Enforcement (ARIDE) courses. \nThe overall mission of this program is to decrease alcohol-related crashes\, injuries\, and deaths by promoting DWI deterrence and enforcement.
URL:https://txsfst.org/event/midland-free-8-hr-advanced-dwi-course-2/
LOCATION:Midland Police Department LEA\, 4214 FM 307\, Midland\, TX\, 79706\, United States
CATEGORIES:Advanced DWI 3402
ATTACH;FMTTYPE=image/png:https://txsfst.org/wp-content/uploads/2022/10/Advanced-DWI-flag.png
GEO:32.0014611;-102.0084011
X-APPLE-STRUCTURED-LOCATION;VALUE=URI;X-ADDRESS=Midland Police Department LEA 4214 FM 307 Midland TX 79706 United States;X-APPLE-RADIUS=500;X-TITLE=4214 FM 307:geo:-102.0084011,32.0014611
END:VEVENT
BEGIN:VEVENT
DTSTART;TZID=America/Chicago:20230320T080000
DTEND;TZID=America/Chicago:20230320T170000
DTSTAMP:20260422T144721
CREATED:20221103T155405Z
LAST-MODIFIED:20221103T155405Z
UID:10000424-1679299200-1679331600@txsfst.org
SUMMARY:Midland FREE 8 – HR Advanced DWI Course
DESCRIPTION:The goal of the Advanced DWI Investigation & Enforcement course is to improve the skill of law enforcement officers in detecting and arresting impaired driving offenders and preparing cases for prosecution. This 8-hour course was designed to supplement other impaired driving enforcement courses such as the Standardized Field Sobriety Testing (SFST) Practitioner\, SFST Refresher\, and the Advanced Roadside Impaired Driving Enforcement (ARIDE) courses. \nThe overall mission of this program is to decrease alcohol-related crashes\, injuries\, and deaths by promoting DWI deterrence and enforcement.
URL:https://txsfst.org/event/midland-free-8-hr-advanced-dwi-course/
LOCATION:Midland Police Department LEA\, 4214 FM 307\, Midland\, TX\, 79706\, United States
CATEGORIES:Advanced DWI 3402
ATTACH;FMTTYPE=image/png:https://txsfst.org/wp-content/uploads/2022/10/Advanced-DWI-flag.png
GEO:32.0014611;-102.0084011
X-APPLE-STRUCTURED-LOCATION;VALUE=URI;X-ADDRESS=Midland Police Department LEA 4214 FM 307 Midland TX 79706 United States;X-APPLE-RADIUS=500;X-TITLE=4214 FM 307:geo:-102.0084011,32.0014611
END:VEVENT
END:VCALENDAR