BEGIN:VCALENDAR
VERSION:2.0
PRODID:-//Texas SFST - ECPv6.15.20//NONSGML v1.0//EN
CALSCALE:GREGORIAN
METHOD:PUBLISH
X-ORIGINAL-URL:https://txsfst.org
X-WR-CALDESC:Events for Texas SFST
REFRESH-INTERVAL;VALUE=DURATION:PT1H
X-Robots-Tag:noindex
X-PUBLISHED-TTL:PT1H
BEGIN:VTIMEZONE
TZID:America/Chicago
BEGIN:DAYLIGHT
TZOFFSETFROM:-0600
TZOFFSETTO:-0500
TZNAME:CDT
DTSTART:20220313T080000
END:DAYLIGHT
BEGIN:STANDARD
TZOFFSETFROM:-0500
TZOFFSETTO:-0600
TZNAME:CST
DTSTART:20221106T070000
END:STANDARD
BEGIN:DAYLIGHT
TZOFFSETFROM:-0600
TZOFFSETTO:-0500
TZNAME:CDT
DTSTART:20230312T080000
END:DAYLIGHT
BEGIN:STANDARD
TZOFFSETFROM:-0500
TZOFFSETTO:-0600
TZNAME:CST
DTSTART:20231105T070000
END:STANDARD
BEGIN:DAYLIGHT
TZOFFSETFROM:-0600
TZOFFSETTO:-0500
TZNAME:CDT
DTSTART:20240310T080000
END:DAYLIGHT
BEGIN:STANDARD
TZOFFSETFROM:-0500
TZOFFSETTO:-0600
TZNAME:CST
DTSTART:20241103T070000
END:STANDARD
END:VTIMEZONE
BEGIN:VEVENT
DTSTART;TZID=America/Chicago:20231019T080000
DTEND;TZID=America/Chicago:20231019T170000
DTSTAMP:20260419T133239
CREATED:20230908T162734Z
LAST-MODIFIED:20230908T162734Z
UID:10000272-1697702400-1697734800@txsfst.org
SUMMARY:Meadows Place FREE 8 – HR SFST Refresher Course
DESCRIPTION:This is an 8-hour SFST refresher course designed to improve the administration and overall consistency of the Standardized Field Sobriety Test (SFST) Battery. Our mission is to decrease alcohol-related crashes\, injuries\, and deaths by promoting DWI deterrence and enforcement proficiency. \n*Successful completion of the Standardized Field Sobriety Testing Practitioner Course is a prerequisite.
URL:https://txsfst.org/event/meadows-place-free-8-hr-sfst-refresher-course/2023-10-19/
LOCATION:Meadows Place Police Training Center\, 11975 W. Airport Blvd\, Meadows Place\, TX\, 77477\, United States
CATEGORIES:8-HR SFST Refresher 2178/2177
ATTACH;FMTTYPE=image/png:https://txsfst.org/wp-content/uploads/2022/10/Refresher-Flag.png
GEO:29.6476007;-95.5904073
X-APPLE-STRUCTURED-LOCATION;VALUE=URI;X-ADDRESS=Meadows Place Police Training Center 11975 W. Airport Blvd Meadows Place TX 77477 United States;X-APPLE-RADIUS=500;X-TITLE=11975 W. Airport Blvd:geo:-95.5904073,29.6476007
END:VEVENT
BEGIN:VEVENT
DTSTART;TZID=America/Chicago:20231017T080000
DTEND;TZID=America/Chicago:20231017T170000
DTSTAMP:20260419T133239
CREATED:20230908T162734Z
LAST-MODIFIED:20230908T162734Z
UID:10000271-1697529600-1697562000@txsfst.org
SUMMARY:Meadows Place FREE 8 – HR SFST Refresher Course
DESCRIPTION:This is an 8-hour SFST refresher course designed to improve the administration and overall consistency of the Standardized Field Sobriety Test (SFST) Battery. Our mission is to decrease alcohol-related crashes\, injuries\, and deaths by promoting DWI deterrence and enforcement proficiency. \n*Successful completion of the Standardized Field Sobriety Testing Practitioner Course is a prerequisite.
URL:https://txsfst.org/event/meadows-place-free-8-hr-sfst-refresher-course/2023-10-17/
LOCATION:Meadows Place Police Training Center\, 11975 W. Airport Blvd\, Meadows Place\, TX\, 77477\, United States
CATEGORIES:8-HR SFST Refresher 2178/2177
ATTACH;FMTTYPE=image/png:https://txsfst.org/wp-content/uploads/2022/10/Refresher-Flag.png
GEO:29.6476007;-95.5904073
X-APPLE-STRUCTURED-LOCATION;VALUE=URI;X-ADDRESS=Meadows Place Police Training Center 11975 W. Airport Blvd Meadows Place TX 77477 United States;X-APPLE-RADIUS=500;X-TITLE=11975 W. Airport Blvd:geo:-95.5904073,29.6476007
END:VEVENT
END:VCALENDAR