BEGIN:VCALENDAR
VERSION:2.0
PRODID:-//Texas SFST - ECPv6.15.20//NONSGML v1.0//EN
CALSCALE:GREGORIAN
METHOD:PUBLISH
X-WR-CALNAME:Texas SFST
X-ORIGINAL-URL:https://txsfst.org
X-WR-CALDESC:Events for Texas SFST
REFRESH-INTERVAL;VALUE=DURATION:PT1H
X-Robots-Tag:noindex
X-PUBLISHED-TTL:PT1H
BEGIN:VTIMEZONE
TZID:America/Chicago
BEGIN:DAYLIGHT
TZOFFSETFROM:-0600
TZOFFSETTO:-0500
TZNAME:CDT
DTSTART:20200308T080000
END:DAYLIGHT
BEGIN:STANDARD
TZOFFSETFROM:-0500
TZOFFSETTO:-0600
TZNAME:CST
DTSTART:20201101T070000
END:STANDARD
BEGIN:DAYLIGHT
TZOFFSETFROM:-0600
TZOFFSETTO:-0500
TZNAME:CDT
DTSTART:20210314T080000
END:DAYLIGHT
BEGIN:STANDARD
TZOFFSETFROM:-0500
TZOFFSETTO:-0600
TZNAME:CST
DTSTART:20211107T070000
END:STANDARD
BEGIN:DAYLIGHT
TZOFFSETFROM:-0600
TZOFFSETTO:-0500
TZNAME:CDT
DTSTART:20220313T080000
END:DAYLIGHT
BEGIN:STANDARD
TZOFFSETFROM:-0500
TZOFFSETTO:-0600
TZNAME:CST
DTSTART:20221106T070000
END:STANDARD
BEGIN:DAYLIGHT
TZOFFSETFROM:-0600
TZOFFSETTO:-0500
TZNAME:CDT
DTSTART:20230312T080000
END:DAYLIGHT
BEGIN:STANDARD
TZOFFSETFROM:-0500
TZOFFSETTO:-0600
TZNAME:CST
DTSTART:20231105T070000
END:STANDARD
BEGIN:DAYLIGHT
TZOFFSETFROM:-0600
TZOFFSETTO:-0500
TZNAME:CDT
DTSTART:20240310T080000
END:DAYLIGHT
BEGIN:STANDARD
TZOFFSETFROM:-0500
TZOFFSETTO:-0600
TZNAME:CST
DTSTART:20241103T070000
END:STANDARD
BEGIN:DAYLIGHT
TZOFFSETFROM:-0600
TZOFFSETTO:-0500
TZNAME:CDT
DTSTART:20250309T080000
END:DAYLIGHT
BEGIN:STANDARD
TZOFFSETFROM:-0500
TZOFFSETTO:-0600
TZNAME:CST
DTSTART:20251102T070000
END:STANDARD
END:VTIMEZONE
BEGIN:VEVENT
DTSTART;TZID=America/Chicago:20240516T080000
DTEND;TZID=America/Chicago:20240516T170000
DTSTAMP:20260425T161047
CREATED:20240401T200944Z
LAST-MODIFIED:20240401T200944Z
UID:10000560-1715846400-1715878800@txsfst.org
SUMMARY:League City FREE 8 – HR SFST Refresher Course
DESCRIPTION:This is an 8-hour SFST refresher course designed to improve the administration and overall consistency of the Standardized Field Sobriety Test (SFST) Battery. Our mission is to decrease alcohol-related crashes\, injuries\, and deaths by promoting DWI deterrence and enforcement proficiency. \n*Successful completion of the Standardized Field Sobriety Testing Practitioner Course is a prerequisite.
URL:https://txsfst.org/event/league-city-free-8-hr-sfst-refresher-course-5/
LOCATION:League City Police Department\, 555 W. Walker Street\, League City\, 77573\, United States
CATEGORIES:8-HR SFST Refresher 2178/2177
ATTACH;FMTTYPE=image/png:https://txsfst.org/wp-content/uploads/2022/10/Refresher-Flag.png
GEO:29.5012514;-95.0949307
X-APPLE-STRUCTURED-LOCATION;VALUE=URI;X-ADDRESS=League City Police Department 555 W. Walker Street League City 77573 United States;X-APPLE-RADIUS=500;X-TITLE=555 W. Walker Street:geo:-95.0949307,29.5012514
END:VEVENT
BEGIN:VEVENT
DTSTART;TZID=America/Chicago:20220405T080000
DTEND;TZID=America/Chicago:20220406T170000
DTSTAMP:20260425T161047
CREATED:20211020T165420Z
LAST-MODIFIED:20220110T181835Z
UID:10000244-1649145600-1649264400@txsfst.org
SUMMARY:FULL League City Free - ARIDE
DESCRIPTION:CLASS IS FULL. WE ARE NOT TAKING ANY OTHER REGISTRANTS \n*NO ONLINE REGISTRATIONS! The requirements listed below must be verified by submitting a copy of each attendee’s TCOLE Personal Status Report and contact number to the SFST State Coordinator (david.mcgarah@txsfst.org). In order to be placed on the attendee list\, you will have to have ALL requirements already met. \nThe ARIDE Program is intended to bridge the gap between the SFST and DEC/DRE programs by providing officers with general knowledge related to drug impairment and by promoting the use of DREs.  This course will train law enforcement officers\, and other criminal justice professionals\, to observe\, identify and articulate the signs of impairment related to drugs\, alcohol\, or a combination of both\, in order to reduce the number of impaired driving incidents as well as crashes which result in serious injuries and fatalities. \nPlease note: \nAll participants must successfully pass a proficiency exam at the beginning of this course in order to continue. Those who do not pass\, will be dismissed and will not receive any course credit. \nIn order to be considered eligible to attend this course\, registrants must meet the following criteria: \n\nCurrently commissioned Texas Peace Officer\nSuccessful completion of the National Highway Transportation Safety Administration (NHTSA) Standardized Field Sobriety Testing Practitioner Course\, 2176 or 2067; or the SFST taken with Academy\n\nThose not meeting these criteria will not be allowed to sign up for this course.* \n  \nCourse Schedule: \nDay 1: 8 am to 5 pm \nDay 2: 8 am to 5 pm
URL:https://txsfst.org/event/league-city-free-aride/
LOCATION:League City Police Department\, 555 W. Walker Street\, League City\, 77573\, United States
ATTACH;FMTTYPE=image/png:https://txsfst.org/wp-content/uploads/2021/11/ARIDE.png
GEO:29.5012514;-95.0949307
X-APPLE-STRUCTURED-LOCATION;VALUE=URI;X-ADDRESS=League City Police Department 555 W. Walker Street League City 77573 United States;X-APPLE-RADIUS=500;X-TITLE=555 W. Walker Street:geo:-95.0949307,29.5012514
END:VEVENT
BEGIN:VEVENT
DTSTART;TZID=America/Chicago:20220215T080000
DTEND;TZID=America/Chicago:20220217T170000
DTSTAMP:20260425T161047
CREATED:20211020T164800Z
LAST-MODIFIED:20211107T235427Z
UID:10000242-1644912000-1645117200@txsfst.org
SUMMARY:League City FREE 24 - HR SFST Practitioner Course
DESCRIPTION:This training course uses the nationally standardized SFST curriculum and prepares Texas Peace Officers to administer and interpret the results of the Standardized Field Sobriety Testing battery. This course is offered to bridge the gap in officers who attended the Basic Peace Officer Course in Texas prior to January 1\, 2005\, when this course was mandated to be included in all Texas BPOCs. \nSchedule for this course:\nDay 1: 8am – 5pm\nDay 2: 12pm – 9pm\nDay 3: 12pm – 9pm
URL:https://txsfst.org/event/league-city-free-24-hr-sfst-practitioner-course/
LOCATION:League City Police Department\, 555 W. Walker Street\, League City\, 77573\, United States
CATEGORIES:24-HR SFST Practitioner 2067
ATTACH;FMTTYPE=image/jpeg:https://txsfst.org/wp-content/uploads/2021/10/SFST-Logo-N-O-3.jpg
GEO:29.5012514;-95.0949307
X-APPLE-STRUCTURED-LOCATION;VALUE=URI;X-ADDRESS=League City Police Department 555 W. Walker Street League City 77573 United States;X-APPLE-RADIUS=500;X-TITLE=555 W. Walker Street:geo:-95.0949307,29.5012514
END:VEVENT
BEGIN:VEVENT
DTSTART;TZID=America/Chicago:20220120T080000
DTEND;TZID=America/Chicago:20220120T170000
DTSTAMP:20260425T161047
CREATED:20220107T164656Z
LAST-MODIFIED:20220107T164656Z
UID:10000073-1642665600-1642698000@txsfst.org
SUMMARY:League City FREE 8 – HR SFST Refresher Course
DESCRIPTION:This is an 8-hour SFST refresher course designed to improve the administration and overall consistency of the Standardized Field Sobriety Test (SFST) Battery. Our mission is to decrease alcohol-related crashes\, injuries\, and deaths by promoting DWI deterrence and enforcement proficiency. \n*Successful completion of the Standardized Field Sobriety Testing Practitioner Course is a prerequisite.
URL:https://txsfst.org/event/league-city-free-8-hr-sfst-refresher-course-4/
LOCATION:League City Police Department\, 555 W. Walker Street\, League City\, 77573\, United States
CATEGORIES:8-HR SFST Refresher 2178/2177
ATTACH;FMTTYPE=image/jpeg:https://txsfst.org/wp-content/uploads/2021/10/SFST-Logo-N-O-e1635879206512.jpg
GEO:29.5012514;-95.0949307
X-APPLE-STRUCTURED-LOCATION;VALUE=URI;X-ADDRESS=League City Police Department 555 W. Walker Street League City 77573 United States;X-APPLE-RADIUS=500;X-TITLE=555 W. Walker Street:geo:-95.0949307,29.5012514
END:VEVENT
BEGIN:VEVENT
DTSTART;TZID=America/Chicago:20210827T080000
DTEND;TZID=America/Chicago:20210827T170000
DTSTAMP:20260425T161047
CREATED:20210601T173601Z
LAST-MODIFIED:20210601T173601Z
UID:10000206-1630051200-1630083600@txsfst.org
SUMMARY:League City FREE 8 – HR SFST Refresher Course
DESCRIPTION:This is an 8-hour SFST refresher course designed to improve the administration and overall consistency of the Standardized Field Sobriety Test (SFST) Battery. Our mission is to decrease alcohol-related crashes\, injuries\, and deaths by promoting DWI deterrence and enforcement proficiency. \n*Successful completion of the Standardized Field Sobriety Testing Practitioner Course is a prerequisite.
URL:https://txsfst.org/event/league-city-free-8-hr-sfst-refresher-course-3/
LOCATION:League City Police Department\, 555 W. Walker Street\, League City\, 77573\, United States
CATEGORIES:8-HR SFST Refresher 2178/2177
ATTACH;FMTTYPE=:
GEO:29.5012514;-95.0949307
X-APPLE-STRUCTURED-LOCATION;VALUE=URI;X-ADDRESS=League City Police Department 555 W. Walker Street League City 77573 United States;X-APPLE-RADIUS=500;X-TITLE=555 W. Walker Street:geo:-95.0949307,29.5012514
END:VEVENT
BEGIN:VEVENT
DTSTART;TZID=America/Chicago:20210630T080000
DTEND;TZID=America/Chicago:20210630T170000
DTSTAMP:20260425T161047
CREATED:20210601T173439Z
LAST-MODIFIED:20210601T173439Z
UID:10000204-1625040000-1625072400@txsfst.org
SUMMARY:League City FREE 8 – HR SFST Refresher Course
DESCRIPTION:This is an 8-hour SFST refresher course designed to improve the administration and overall consistency of the Standardized Field Sobriety Test (SFST) Battery. Our mission is to decrease alcohol-related crashes\, injuries\, and deaths by promoting DWI deterrence and enforcement proficiency. \n*Successful completion of the Standardized Field Sobriety Testing Practitioner Course is a prerequisite.
URL:https://txsfst.org/event/league-city-free-8-hr-sfst-refresher-course-2/
LOCATION:League City Police Department\, 555 W. Walker Street\, League City\, 77573\, United States
CATEGORIES:8-HR SFST Refresher 2178/2177
ATTACH;FMTTYPE=:
GEO:29.5012514;-95.0949307
X-APPLE-STRUCTURED-LOCATION;VALUE=URI;X-ADDRESS=League City Police Department 555 W. Walker Street League City 77573 United States;X-APPLE-RADIUS=500;X-TITLE=555 W. Walker Street:geo:-95.0949307,29.5012514
END:VEVENT
BEGIN:VEVENT
DTSTART;TZID=America/Chicago:20210308T080000
DTEND;TZID=America/Chicago:20210308T170000
DTSTAMP:20260425T161047
CREATED:20210126T192602Z
LAST-MODIFIED:20210126T192602Z
UID:10000023-1615190400-1615222800@txsfst.org
SUMMARY:League City FREE 8 – HR SFST Refresher Course
DESCRIPTION:This is an 8-hour SFST refresher course designed to improve the administration and overall consistency of the Standardized Field Sobriety Test (SFST) Battery. Our mission is to decrease alcohol-related crashes\, injuries\, and deaths by promoting DWI deterrence and enforcement proficiency. \n*Successful completion of the Standardized Field Sobriety Testing Practitioner Course is a prerequisite.
URL:https://txsfst.org/event/league-city-free-8-hr-sfst-refresher-course/
LOCATION:League City Police Department\, 555 W. Walker Street\, League City\, 77573\, United States
CATEGORIES:8-HR SFST Refresher 2178/2177
ATTACH;FMTTYPE=:
GEO:29.5012514;-95.0949307
X-APPLE-STRUCTURED-LOCATION;VALUE=URI;X-ADDRESS=League City Police Department 555 W. Walker Street League City 77573 United States;X-APPLE-RADIUS=500;X-TITLE=555 W. Walker Street:geo:-95.0949307,29.5012514
END:VEVENT
END:VCALENDAR