BEGIN:VCALENDAR
VERSION:2.0
PRODID:-//Texas SFST - ECPv6.15.20//NONSGML v1.0//EN
CALSCALE:GREGORIAN
METHOD:PUBLISH
X-ORIGINAL-URL:https://txsfst.org
X-WR-CALDESC:Events for Texas SFST
REFRESH-INTERVAL;VALUE=DURATION:PT1H
X-Robots-Tag:noindex
X-PUBLISHED-TTL:PT1H
BEGIN:VTIMEZONE
TZID:America/Chicago
BEGIN:DAYLIGHT
TZOFFSETFROM:-0600
TZOFFSETTO:-0500
TZNAME:CDT
DTSTART:20250309T080000
END:DAYLIGHT
BEGIN:STANDARD
TZOFFSETFROM:-0500
TZOFFSETTO:-0600
TZNAME:CST
DTSTART:20251102T070000
END:STANDARD
BEGIN:DAYLIGHT
TZOFFSETFROM:-0600
TZOFFSETTO:-0500
TZNAME:CDT
DTSTART:20260308T080000
END:DAYLIGHT
BEGIN:STANDARD
TZOFFSETFROM:-0500
TZOFFSETTO:-0600
TZNAME:CST
DTSTART:20261101T070000
END:STANDARD
BEGIN:DAYLIGHT
TZOFFSETFROM:-0600
TZOFFSETTO:-0500
TZNAME:CDT
DTSTART:20270314T080000
END:DAYLIGHT
BEGIN:STANDARD
TZOFFSETFROM:-0500
TZOFFSETTO:-0600
TZNAME:CST
DTSTART:20271107T070000
END:STANDARD
END:VTIMEZONE
BEGIN:VEVENT
DTSTART;TZID=America/Chicago:20260519T080000
DTEND;TZID=America/Chicago:20260519T170000
DTSTAMP:20260422T003656
CREATED:20260421T215247Z
LAST-MODIFIED:20260421T215247Z
UID:10000881-1779177600-1779210000@txsfst.org
SUMMARY:Lamb Co FREE 8 – HR SFST Refresher Course
DESCRIPTION:This is an 8-hour SFST refresher course designed to improve the administration and overall consistency of the Standardized Field Sobriety Test (SFST) Battery. Our mission is to decrease alcohol-related crashes\, injuries\, and deaths by promoting DWI deterrence and enforcement proficiency. \n*Successful completion of the Standardized Field Sobriety Testing Practitioner Course is a prerequisite.
URL:https://txsfst.org/event/lamb-co-free-8-hr-sfst-refresher-course/
LOCATION:Lamb County Agricultural Barn\, 1095 E 17th St.\, Littlefield\, TX\, 79339\, United States
CATEGORIES:8-HR SFST Refresher 2178/2177
ATTACH;FMTTYPE=image/png:https://txsfst.org/wp-content/uploads/2022/10/Refresher-Flag.png
GEO:33.9103449;-102.3255492
X-APPLE-STRUCTURED-LOCATION;VALUE=URI;X-ADDRESS=Lamb County Agricultural Barn 1095 E 17th St. Littlefield TX 79339 United States;X-APPLE-RADIUS=500;X-TITLE=1095 E 17th St.:geo:-102.3255492,33.9103449
END:VEVENT
END:VCALENDAR