BEGIN:VCALENDAR
VERSION:2.0
PRODID:-//Texas SFST - ECPv6.15.20//NONSGML v1.0//EN
CALSCALE:GREGORIAN
METHOD:PUBLISH
X-ORIGINAL-URL:https://txsfst.org
X-WR-CALDESC:Events for Texas SFST
REFRESH-INTERVAL;VALUE=DURATION:PT1H
X-Robots-Tag:noindex
X-PUBLISHED-TTL:PT1H
BEGIN:VTIMEZONE
TZID:America/Chicago
BEGIN:DAYLIGHT
TZOFFSETFROM:-0600
TZOFFSETTO:-0500
TZNAME:CDT
DTSTART:20240310T080000
END:DAYLIGHT
BEGIN:STANDARD
TZOFFSETFROM:-0500
TZOFFSETTO:-0600
TZNAME:CST
DTSTART:20241103T070000
END:STANDARD
BEGIN:DAYLIGHT
TZOFFSETFROM:-0600
TZOFFSETTO:-0500
TZNAME:CDT
DTSTART:20250309T080000
END:DAYLIGHT
BEGIN:STANDARD
TZOFFSETFROM:-0500
TZOFFSETTO:-0600
TZNAME:CST
DTSTART:20251102T070000
END:STANDARD
BEGIN:DAYLIGHT
TZOFFSETFROM:-0600
TZOFFSETTO:-0500
TZNAME:CDT
DTSTART:20260308T080000
END:DAYLIGHT
BEGIN:STANDARD
TZOFFSETFROM:-0500
TZOFFSETTO:-0600
TZNAME:CST
DTSTART:20261101T070000
END:STANDARD
END:VTIMEZONE
BEGIN:VEVENT
DTSTART;TZID=America/Chicago:20250805T080000
DTEND;TZID=America/Chicago:20250805T170000
DTSTAMP:20260421T192533
CREATED:20250320T225452Z
LAST-MODIFIED:20250320T225452Z
UID:10000692-1754380800-1754413200@txsfst.org
SUMMARY:Jersey Village FREE 8 – HR SFST Refresher Course
DESCRIPTION:This is an 8-hour SFST refresher course designed to improve the administration and overall consistency of the Standardized Field Sobriety Test (SFST) Battery. Our mission is to decrease alcohol-related crashes\, injuries\, and deaths by promoting DWI deterrence and enforcement proficiency. \n*Successful completion of the Standardized Field Sobriety Testing Practitioner Course is a prerequisite.
URL:https://txsfst.org/event/jersey-village-free-8-hr-sfst-refresher-course-5/
LOCATION:Jersey Village Police Department\, 16401 Lakeview Drive\, Jersey Village\, TX\, 77041\, United States
CATEGORIES:8-HR SFST Refresher 2178/2177
ATTACH;FMTTYPE=image/png:https://txsfst.org/wp-content/uploads/2022/10/Refresher-Flag.png
GEO:29.8838627;-95.5706417
X-APPLE-STRUCTURED-LOCATION;VALUE=URI;X-ADDRESS=Jersey Village Police Department 16401 Lakeview Drive Jersey Village TX 77041 United States;X-APPLE-RADIUS=500;X-TITLE=16401 Lakeview Drive:geo:-95.5706417,29.8838627
END:VEVENT
BEGIN:VEVENT
DTSTART;TZID=America/Chicago:20250626T080000
DTEND;TZID=America/Chicago:20250626T170000
DTSTAMP:20260421T192533
CREATED:20250320T222920Z
LAST-MODIFIED:20250320T222920Z
UID:10000691-1750924800-1750957200@txsfst.org
SUMMARY:Jersey Village FREE 8 – HR SFST Refresher Course
DESCRIPTION:This is an 8-hour SFST refresher course designed to improve the administration and overall consistency of the Standardized Field Sobriety Test (SFST) Battery. Our mission is to decrease alcohol-related crashes\, injuries\, and deaths by promoting DWI deterrence and enforcement proficiency. \n*Successful completion of the Standardized Field Sobriety Testing Practitioner Course is a prerequisite.
URL:https://txsfst.org/event/jersey-village-free-8-hr-sfst-refresher-course/
LOCATION:Jersey Village Police Department\, 16401 Lakeview Drive\, Jersey Village\, TX\, 77041\, United States
CATEGORIES:8-HR SFST Refresher 2178/2177
ATTACH;FMTTYPE=image/png:https://txsfst.org/wp-content/uploads/2022/10/Refresher-Flag.png
GEO:29.8838627;-95.5706417
X-APPLE-STRUCTURED-LOCATION;VALUE=URI;X-ADDRESS=Jersey Village Police Department 16401 Lakeview Drive Jersey Village TX 77041 United States;X-APPLE-RADIUS=500;X-TITLE=16401 Lakeview Drive:geo:-95.5706417,29.8838627
END:VEVENT
BEGIN:VEVENT
DTSTART;TZID=America/Chicago:20250403T080000
DTEND;TZID=America/Chicago:20250403T170000
DTSTAMP:20260421T192533
CREATED:20241125T235616Z
LAST-MODIFIED:20250228T154632Z
UID:10000575-1743667200-1743699600@txsfst.org
SUMMARY:Jersey Village FREE 8 – HR SFST Refresher Course
DESCRIPTION:This is an 8-hour SFST refresher course designed to improve the administration and overall consistency of the Standardized Field Sobriety Test (SFST) Battery. Our mission is to decrease alcohol-related crashes\, injuries\, and deaths by promoting DWI deterrence and enforcement proficiency. \n*Successful completion of the Standardized Field Sobriety Testing Practitioner Course is a prerequisite.
URL:https://txsfst.org/event/jersey-village-free-8-hr-sfst-refresher-course-4/
LOCATION:Jersey Village Police Department\, 16401 Lakeview Drive\, Jersey Village\, TX\, 77041\, United States
CATEGORIES:8-HR SFST Refresher 2178/2177
ATTACH;FMTTYPE=image/png:https://txsfst.org/wp-content/uploads/2022/10/Refresher-Flag.png
GEO:29.8838627;-95.5706417
X-APPLE-STRUCTURED-LOCATION;VALUE=URI;X-ADDRESS=Jersey Village Police Department 16401 Lakeview Drive Jersey Village TX 77041 United States;X-APPLE-RADIUS=500;X-TITLE=16401 Lakeview Drive:geo:-95.5706417,29.8838627
END:VEVENT
BEGIN:VEVENT
DTSTART;TZID=America/Chicago:20250401T080000
DTEND;TZID=America/Chicago:20250401T170000
DTSTAMP:20260421T192533
CREATED:20241125T235231Z
LAST-MODIFIED:20250228T154602Z
UID:10000574-1743494400-1743526800@txsfst.org
SUMMARY:Jersey Village FREE 8 – HR SFST Refresher Course
DESCRIPTION:This is an 8-hour SFST refresher course designed to improve the administration and overall consistency of the Standardized Field Sobriety Test (SFST) Battery. Our mission is to decrease alcohol-related crashes\, injuries\, and deaths by promoting DWI deterrence and enforcement proficiency. \n*Successful completion of the Standardized Field Sobriety Testing Practitioner Course is a prerequisite.
URL:https://txsfst.org/event/jersey-village-free-8-hr-sfst-refresher-course-3/
LOCATION:Jersey Village Police Department\, 16401 Lakeview Drive\, Jersey Village\, TX\, 77041\, United States
CATEGORIES:8-HR SFST Refresher 2178/2177
ATTACH;FMTTYPE=image/png:https://txsfst.org/wp-content/uploads/2022/10/Refresher-Flag.png
GEO:29.8838627;-95.5706417
X-APPLE-STRUCTURED-LOCATION;VALUE=URI;X-ADDRESS=Jersey Village Police Department 16401 Lakeview Drive Jersey Village TX 77041 United States;X-APPLE-RADIUS=500;X-TITLE=16401 Lakeview Drive:geo:-95.5706417,29.8838627
END:VEVENT
END:VCALENDAR