BEGIN:VCALENDAR
VERSION:2.0
PRODID:-//Texas SFST - ECPv6.15.20//NONSGML v1.0//EN
CALSCALE:GREGORIAN
METHOD:PUBLISH
X-ORIGINAL-URL:https://txsfst.org
X-WR-CALDESC:Events for Texas SFST
REFRESH-INTERVAL;VALUE=DURATION:PT1H
X-Robots-Tag:noindex
X-PUBLISHED-TTL:PT1H
BEGIN:VTIMEZONE
TZID:America/Chicago
BEGIN:DAYLIGHT
TZOFFSETFROM:-0600
TZOFFSETTO:-0500
TZNAME:CDT
DTSTART:20210314T080000
END:DAYLIGHT
BEGIN:STANDARD
TZOFFSETFROM:-0500
TZOFFSETTO:-0600
TZNAME:CST
DTSTART:20211107T070000
END:STANDARD
BEGIN:DAYLIGHT
TZOFFSETFROM:-0600
TZOFFSETTO:-0500
TZNAME:CDT
DTSTART:20220313T080000
END:DAYLIGHT
BEGIN:STANDARD
TZOFFSETFROM:-0500
TZOFFSETTO:-0600
TZNAME:CST
DTSTART:20221106T070000
END:STANDARD
BEGIN:DAYLIGHT
TZOFFSETFROM:-0600
TZOFFSETTO:-0500
TZNAME:CDT
DTSTART:20230312T080000
END:DAYLIGHT
BEGIN:STANDARD
TZOFFSETFROM:-0500
TZOFFSETTO:-0600
TZNAME:CST
DTSTART:20231105T070000
END:STANDARD
BEGIN:DAYLIGHT
TZOFFSETFROM:-0600
TZOFFSETTO:-0500
TZNAME:CDT
DTSTART:20240310T080000
END:DAYLIGHT
BEGIN:STANDARD
TZOFFSETFROM:-0500
TZOFFSETTO:-0600
TZNAME:CST
DTSTART:20241103T070000
END:STANDARD
BEGIN:DAYLIGHT
TZOFFSETFROM:-0600
TZOFFSETTO:-0500
TZNAME:CDT
DTSTART:20250309T080000
END:DAYLIGHT
BEGIN:STANDARD
TZOFFSETFROM:-0500
TZOFFSETTO:-0600
TZNAME:CST
DTSTART:20251102T070000
END:STANDARD
END:VTIMEZONE
BEGIN:VEVENT
DTSTART;TZID=America/Chicago:20240827T080000
DTEND;TZID=America/Chicago:20240827T170000
DTSTAMP:20260425T115520
CREATED:20240514T141838Z
LAST-MODIFIED:20240514T141838Z
UID:10000563-1724745600-1724778000@txsfst.org
SUMMARY:Lewisville FREE 8 – HR Advanced DWI Course
DESCRIPTION:The goal of the Advanced DWI Investigation & Enforcement course is to improve the skill of law enforcement officers in detecting and arresting impaired driving offenders and preparing cases for prosecution. This 8-hour course was designed to supplement other impaired driving enforcement courses such as the Standardized Field Sobriety Testing (SFST) Practitioner\, SFST Refresher\, and the Advanced Roadside Impaired Driving Enforcement (ARIDE) courses. \nThe overall mission of this program is to decrease alcohol-related crashes\, injuries\, and deaths by promoting DWI deterrence and enforcement. \n***THIS COURSE WILL NOT GIVE YOU CREDIT FOR YOUR SFST UPDATE***
URL:https://txsfst.org/event/lewisville-free-8-hr-advanced-dwi-course-2/
LOCATION:Jerry Galler Training Facility\, 701 E. Valley Ridge Blvd\, Lewisville\, TX\, 75067\, United States
CATEGORIES:Advanced DWI 3402
ATTACH;FMTTYPE=image/png:https://txsfst.org/wp-content/uploads/2022/10/Advanced-DWI-flag.png
GEO:33.0573445;-96.984766
X-APPLE-STRUCTURED-LOCATION;VALUE=URI;X-ADDRESS=Jerry Galler Training Facility 701 E. Valley Ridge Blvd Lewisville TX 75067 United States;X-APPLE-RADIUS=500;X-TITLE=701 E. Valley Ridge Blvd:geo:-96.984766,33.0573445
END:VEVENT
BEGIN:VEVENT
DTSTART;TZID=America/Chicago:20220720T080000
DTEND;TZID=America/Chicago:20220720T170000
DTSTAMP:20260425T115520
CREATED:20220413T185825Z
LAST-MODIFIED:20220421T171431Z
UID:10000365-1658304000-1658336400@txsfst.org
SUMMARY:Lewisville FREE 8 – HR Advanced DWI Course
DESCRIPTION:The goal of the Advanced DWI Investigation & Enforcement course is to improve the skill of law enforcement officers in detecting and arresting impaired driving offenders and preparing cases for prosecution. This 8-hour course was designed to supplement other impaired driving enforcement courses such as the Standardized Field Sobriety Testing (SFST) Practitioner\, SFST Refresher\, and the Advanced Roadside Impaired Driving Enforcement (ARIDE) courses. \nThe overall mission of this program is to decrease alcohol-related crashes\, injuries\, and deaths by promoting DWI deterrence and enforcement.
URL:https://txsfst.org/event/lewisville-free-8-hr-advanced-dwi-course/
LOCATION:Jerry Galler Training Facility\, 701 E. Valley Ridge Blvd\, Lewisville\, TX\, 75067\, United States
CATEGORIES:Advanced DWI 3402
ATTACH;FMTTYPE=image/jpeg:https://txsfst.org/wp-content/uploads/2021/11/SFST-Logo-N-O-1.jpg
GEO:33.0573445;-96.984766
X-APPLE-STRUCTURED-LOCATION;VALUE=URI;X-ADDRESS=Jerry Galler Training Facility 701 E. Valley Ridge Blvd Lewisville TX 75067 United States;X-APPLE-RADIUS=500;X-TITLE=701 E. Valley Ridge Blvd:geo:-96.984766,33.0573445
END:VEVENT
END:VCALENDAR