BEGIN:VCALENDAR
VERSION:2.0
PRODID:-//Texas SFST - ECPv6.15.20//NONSGML v1.0//EN
CALSCALE:GREGORIAN
METHOD:PUBLISH
X-ORIGINAL-URL:https://txsfst.org
X-WR-CALDESC:Events for Texas SFST
REFRESH-INTERVAL;VALUE=DURATION:PT1H
X-Robots-Tag:noindex
X-PUBLISHED-TTL:PT1H
BEGIN:VTIMEZONE
TZID:America/Chicago
BEGIN:DAYLIGHT
TZOFFSETFROM:-0600
TZOFFSETTO:-0500
TZNAME:CDT
DTSTART:20210314T080000
END:DAYLIGHT
BEGIN:STANDARD
TZOFFSETFROM:-0500
TZOFFSETTO:-0600
TZNAME:CST
DTSTART:20211107T070000
END:STANDARD
BEGIN:DAYLIGHT
TZOFFSETFROM:-0600
TZOFFSETTO:-0500
TZNAME:CDT
DTSTART:20220313T080000
END:DAYLIGHT
BEGIN:STANDARD
TZOFFSETFROM:-0500
TZOFFSETTO:-0600
TZNAME:CST
DTSTART:20221106T070000
END:STANDARD
BEGIN:DAYLIGHT
TZOFFSETFROM:-0600
TZOFFSETTO:-0500
TZNAME:CDT
DTSTART:20230312T080000
END:DAYLIGHT
BEGIN:STANDARD
TZOFFSETFROM:-0500
TZOFFSETTO:-0600
TZNAME:CST
DTSTART:20231105T070000
END:STANDARD
BEGIN:DAYLIGHT
TZOFFSETFROM:-0600
TZOFFSETTO:-0500
TZNAME:CDT
DTSTART:20240310T080000
END:DAYLIGHT
BEGIN:STANDARD
TZOFFSETFROM:-0500
TZOFFSETTO:-0600
TZNAME:CST
DTSTART:20241103T070000
END:STANDARD
END:VTIMEZONE
BEGIN:VEVENT
DTSTART;TZID=America/Chicago:20231121T080000
DTEND;TZID=America/Chicago:20231121T170000
DTSTAMP:20260420T010511
CREATED:20230921T164109Z
LAST-MODIFIED:20230921T164109Z
UID:10000276-1700553600-1700586000@txsfst.org
SUMMARY:Guadalupe Co FREE 8 – HR SFST Refresher Course
DESCRIPTION:This is an 8-hour SFST refresher course designed to improve the administration and overall consistency of the Standardized Field Sobriety Test (SFST) Battery. Our mission is to decrease alcohol-related crashes\, injuries\, and deaths by promoting DWI deterrence and enforcement proficiency. \n*Successful completion of the Standardized Field Sobriety Testing Practitioner Course is a prerequisite.
URL:https://txsfst.org/event/guadalupe-co-free-8-hr-sfst-refresher-course-3/
LOCATION:Guadalupe County Sheriff’s Office\, 2617 N. Guadalupe Street\, Seguin\, TX\, 78155\, United States
CATEGORIES:8-HR SFST Refresher 2178/2177
ATTACH;FMTTYPE=image/png:https://txsfst.org/wp-content/uploads/2022/10/Refresher-Flag.png
GEO:29.6028149;-97.9698225
X-APPLE-STRUCTURED-LOCATION;VALUE=URI;X-ADDRESS=Guadalupe County Sheriff’s Office 2617 N. Guadalupe Street Seguin TX 78155 United States;X-APPLE-RADIUS=500;X-TITLE=2617 N. Guadalupe Street:geo:-97.9698225,29.6028149
END:VEVENT
BEGIN:VEVENT
DTSTART;TZID=America/Chicago:20220324T080000
DTEND;TZID=America/Chicago:20220324T170000
DTSTAMP:20260420T010511
CREATED:20220314T214732Z
LAST-MODIFIED:20220318T220727Z
UID:10000340-1648108800-1648141200@txsfst.org
SUMMARY:Guadalupe Co SO FREE 8 – HR Advanced DWI Course
DESCRIPTION:The goal of the Advanced DWI Investigation & Enforcement course is to improve the skill of law enforcement officers in detecting and arresting impaired driving offenders and preparing cases for prosecution. This 8-hour course was designed to supplement other impaired driving enforcement courses such as the Standardized Field Sobriety Testing (SFST) Practitioner\, SFST Refresher\, and the Advanced Roadside Impaired Driving Enforcement (ARIDE) courses. \nThe overall mission of this program is to decrease alcohol-related crashes\, injuries\, and deaths by promoting DWI deterrence and enforcement.
URL:https://txsfst.org/event/guadalupe-co-so-free-8-hr-advanced-dwi-course/
LOCATION:Guadalupe County Sheriff’s Office\, 2617 N. Guadalupe Street\, Seguin\, TX\, 78155\, United States
CATEGORIES:Advanced DWI 3402
ATTACH;FMTTYPE=image/jpeg:https://txsfst.org/wp-content/uploads/2021/11/SFST-Logo-N-O-1.jpg
GEO:29.6028149;-97.9698225
X-APPLE-STRUCTURED-LOCATION;VALUE=URI;X-ADDRESS=Guadalupe County Sheriff’s Office 2617 N. Guadalupe Street Seguin TX 78155 United States;X-APPLE-RADIUS=500;X-TITLE=2617 N. Guadalupe Street:geo:-97.9698225,29.6028149
END:VEVENT
BEGIN:VEVENT
DTSTART;TZID=America/Chicago:20220318T080000
DTEND;TZID=America/Chicago:20220318T170000
DTSTAMP:20260420T010511
CREATED:20220309T154354Z
LAST-MODIFIED:20220309T154415Z
UID:10000334-1647590400-1647622800@txsfst.org
SUMMARY:Guadalupe Co FREE 8 – HR SFST Refresher Course
DESCRIPTION:This is an 8-hour SFST refresher course designed to improve the administration and overall consistency of the Standardized Field Sobriety Test (SFST) Battery. Our mission is to decrease alcohol-related crashes\, injuries\, and deaths by promoting DWI deterrence and enforcement proficiency. \n*Successful completion of the Standardized Field Sobriety Testing Practitioner Course is a prerequisite.
URL:https://txsfst.org/event/guadalupe-co-free-8-hr-sfst-refresher-course-2/
LOCATION:Guadalupe County Sheriff’s Office\, 2617 N. Guadalupe Street\, Seguin\, TX\, 78155\, United States
CATEGORIES:8-HR SFST Refresher 2178/2177
ATTACH;FMTTYPE=image/jpeg:https://txsfst.org/wp-content/uploads/2021/11/SFST-Logo-N-O-1.jpg
GEO:29.6028149;-97.9698225
X-APPLE-STRUCTURED-LOCATION;VALUE=URI;X-ADDRESS=Guadalupe County Sheriff’s Office 2617 N. Guadalupe Street Seguin TX 78155 United States;X-APPLE-RADIUS=500;X-TITLE=2617 N. Guadalupe Street:geo:-97.9698225,29.6028149
END:VEVENT
BEGIN:VEVENT
DTSTART;TZID=America/Chicago:20220317T080000
DTEND;TZID=America/Chicago:20220317T170000
DTSTAMP:20260420T010511
CREATED:20220309T154050Z
LAST-MODIFIED:20220309T154050Z
UID:10000333-1647504000-1647536400@txsfst.org
SUMMARY:Guadalupe Co FREE 8 – HR SFST Refresher Course
DESCRIPTION:This is an 8-hour SFST refresher course designed to improve the administration and overall consistency of the Standardized Field Sobriety Test (SFST) Battery. Our mission is to decrease alcohol-related crashes\, injuries\, and deaths by promoting DWI deterrence and enforcement proficiency. \n*Successful completion of the Standardized Field Sobriety Testing Practitioner Course is a prerequisite.
URL:https://txsfst.org/event/guadalupe-co-free-8-hr-sfst-refresher-course/
LOCATION:Guadalupe County Sheriff’s Office\, 2617 N. Guadalupe Street\, Seguin\, TX\, 78155\, United States
CATEGORIES:8-HR SFST Refresher 2178/2177
ATTACH;FMTTYPE=image/jpeg:https://txsfst.org/wp-content/uploads/2021/11/SFST-Logo-N-O-1.jpg
GEO:29.6028149;-97.9698225
X-APPLE-STRUCTURED-LOCATION;VALUE=URI;X-ADDRESS=Guadalupe County Sheriff’s Office 2617 N. Guadalupe Street Seguin TX 78155 United States;X-APPLE-RADIUS=500;X-TITLE=2617 N. Guadalupe Street:geo:-97.9698225,29.6028149
END:VEVENT
END:VCALENDAR