BEGIN:VCALENDAR
VERSION:2.0
PRODID:-//Texas SFST - ECPv6.15.20//NONSGML v1.0//EN
CALSCALE:GREGORIAN
METHOD:PUBLISH
X-WR-CALNAME:Texas SFST
X-ORIGINAL-URL:https://txsfst.org
X-WR-CALDESC:Events for Texas SFST
REFRESH-INTERVAL;VALUE=DURATION:PT1H
X-Robots-Tag:noindex
X-PUBLISHED-TTL:PT1H
BEGIN:VTIMEZONE
TZID:America/Chicago
BEGIN:DAYLIGHT
TZOFFSETFROM:-0600
TZOFFSETTO:-0500
TZNAME:CDT
DTSTART:20200308T080000
END:DAYLIGHT
BEGIN:STANDARD
TZOFFSETFROM:-0500
TZOFFSETTO:-0600
TZNAME:CST
DTSTART:20201101T070000
END:STANDARD
BEGIN:DAYLIGHT
TZOFFSETFROM:-0600
TZOFFSETTO:-0500
TZNAME:CDT
DTSTART:20210314T080000
END:DAYLIGHT
BEGIN:STANDARD
TZOFFSETFROM:-0500
TZOFFSETTO:-0600
TZNAME:CST
DTSTART:20211107T070000
END:STANDARD
BEGIN:DAYLIGHT
TZOFFSETFROM:-0600
TZOFFSETTO:-0500
TZNAME:CDT
DTSTART:20220313T080000
END:DAYLIGHT
BEGIN:STANDARD
TZOFFSETFROM:-0500
TZOFFSETTO:-0600
TZNAME:CST
DTSTART:20221106T070000
END:STANDARD
END:VTIMEZONE
BEGIN:VEVENT
DTSTART;TZID=America/Chicago:20211109T080000
DTEND;TZID=America/Chicago:20211109T170000
DTSTAMP:20260425T083024
CREATED:20210923T142816Z
LAST-MODIFIED:20211107T235845Z
UID:10000226-1636444800-1636477200@txsfst.org
SUMMARY:Dallas College FREE 8 – HR SFST Refresher Course
DESCRIPTION:This is an 8-hour SFST refresher course designed to improve the administration and overall consistency of the Standardized Field Sobriety Test (SFST) Battery. Our mission is to decrease alcohol-related crashes\, injuries\, and deaths by promoting DWI deterrence and enforcement proficiency. \n*Successful completion of the Standardized Field Sobriety Testing Practitioner Course is a prerequisite.
URL:https://txsfst.org/event/dallas-college-free-8-hr-sfst-refresher-course/
LOCATION:Dallas College Cedar Valley LEA\, 303 North Dallas Avenue Building C\, Lancester\, TX\, 75134\, United States
CATEGORIES:8-HR SFST Refresher 2178/2177
ATTACH;FMTTYPE=image/jpeg:https://txsfst.org/wp-content/uploads/2021/10/SFST-Logo-N-O-3.jpg
GEO:32.5935701;-96.7572799
X-APPLE-STRUCTURED-LOCATION;VALUE=URI;X-ADDRESS=Dallas College Cedar Valley LEA 303 North Dallas Avenue Building C Lancester TX 75134 United States;X-APPLE-RADIUS=500;X-TITLE=303 North Dallas Avenue Building C:geo:-96.7572799,32.5935701
END:VEVENT
BEGIN:VEVENT
DTSTART;TZID=America/Chicago:20210729T080000
DTEND;TZID=America/Chicago:20210729T170000
DTSTAMP:20260425T083024
CREATED:20210428T184023Z
LAST-MODIFIED:20211108T000242Z
UID:10000019-1627545600-1627578000@txsfst.org
SUMMARY:Dallas Co FREE 8 – HR SFST Refresher Course
DESCRIPTION:Please also let Deputy Wendy Sheriff know you are registered by emailing her at: WendySheriff@dcccd.edu  \nThis is an 8-hour SFST refresher course designed to improve the administration and overall consistency of the Standardized Field Sobriety Test (SFST) Battery. Our mission is to decrease alcohol-related crashes\, injuries\, and deaths by promoting DWI deterrence and enforcement proficiency. \n*Successful completion of the Standardized Field Sobriety Testing Practitioner Course is a prerequisite.
URL:https://txsfst.org/event/dallas-co-free-8-hr-sfst-refresher-course/2021-07-29/
LOCATION:Dallas College Cedar Valley LEA\, 303 North Dallas Avenue Building C\, Lancester\, TX\, 75134\, United States
CATEGORIES:8-HR SFST Refresher 2178/2177
ATTACH;FMTTYPE=image/jpeg:https://txsfst.org/wp-content/uploads/2021/10/SFST-Logo-N-O-3.jpg
GEO:32.5935701;-96.7572799
X-APPLE-STRUCTURED-LOCATION;VALUE=URI;X-ADDRESS=Dallas College Cedar Valley LEA 303 North Dallas Avenue Building C Lancester TX 75134 United States;X-APPLE-RADIUS=500;X-TITLE=303 North Dallas Avenue Building C:geo:-96.7572799,32.5935701
END:VEVENT
BEGIN:VEVENT
DTSTART;TZID=America/Chicago:20210715T080000
DTEND;TZID=America/Chicago:20210715T170000
DTSTAMP:20260425T083024
CREATED:20210428T184023Z
LAST-MODIFIED:20211108T000242Z
UID:10000018-1626336000-1626368400@txsfst.org
SUMMARY:Dallas Co FREE 8 – HR SFST Refresher Course
DESCRIPTION:Please also let Deputy Wendy Sheriff know you are registered by emailing her at: WendySheriff@dcccd.edu  \nThis is an 8-hour SFST refresher course designed to improve the administration and overall consistency of the Standardized Field Sobriety Test (SFST) Battery. Our mission is to decrease alcohol-related crashes\, injuries\, and deaths by promoting DWI deterrence and enforcement proficiency. \n*Successful completion of the Standardized Field Sobriety Testing Practitioner Course is a prerequisite.
URL:https://txsfst.org/event/dallas-co-free-8-hr-sfst-refresher-course/2021-07-15/
LOCATION:Dallas College Cedar Valley LEA\, 303 North Dallas Avenue Building C\, Lancester\, TX\, 75134\, United States
CATEGORIES:8-HR SFST Refresher 2178/2177
ATTACH;FMTTYPE=image/jpeg:https://txsfst.org/wp-content/uploads/2021/10/SFST-Logo-N-O-3.jpg
GEO:32.5935701;-96.7572799
X-APPLE-STRUCTURED-LOCATION;VALUE=URI;X-ADDRESS=Dallas College Cedar Valley LEA 303 North Dallas Avenue Building C Lancester TX 75134 United States;X-APPLE-RADIUS=500;X-TITLE=303 North Dallas Avenue Building C:geo:-96.7572799,32.5935701
END:VEVENT
BEGIN:VEVENT
DTSTART;TZID=America/Chicago:20210623T080000
DTEND;TZID=America/Chicago:20210623T170000
DTSTAMP:20260425T083024
CREATED:20210428T184023Z
LAST-MODIFIED:20211108T000242Z
UID:10000017-1624435200-1624467600@txsfst.org
SUMMARY:Dallas Co FREE 8 – HR SFST Refresher Course
DESCRIPTION:Please also let Deputy Wendy Sheriff know you are registered by emailing her at: WendySheriff@dcccd.edu  \nThis is an 8-hour SFST refresher course designed to improve the administration and overall consistency of the Standardized Field Sobriety Test (SFST) Battery. Our mission is to decrease alcohol-related crashes\, injuries\, and deaths by promoting DWI deterrence and enforcement proficiency. \n*Successful completion of the Standardized Field Sobriety Testing Practitioner Course is a prerequisite.
URL:https://txsfst.org/event/dallas-co-free-8-hr-sfst-refresher-course/2021-06-23/
LOCATION:Dallas College Cedar Valley LEA\, 303 North Dallas Avenue Building C\, Lancester\, TX\, 75134\, United States
CATEGORIES:8-HR SFST Refresher 2178/2177
ATTACH;FMTTYPE=image/jpeg:https://txsfst.org/wp-content/uploads/2021/10/SFST-Logo-N-O-3.jpg
GEO:32.5935701;-96.7572799
X-APPLE-STRUCTURED-LOCATION;VALUE=URI;X-ADDRESS=Dallas College Cedar Valley LEA 303 North Dallas Avenue Building C Lancester TX 75134 United States;X-APPLE-RADIUS=500;X-TITLE=303 North Dallas Avenue Building C:geo:-96.7572799,32.5935701
END:VEVENT
END:VCALENDAR