BEGIN:VCALENDAR
VERSION:2.0
PRODID:-//Texas SFST - ECPv6.15.20//NONSGML v1.0//EN
CALSCALE:GREGORIAN
METHOD:PUBLISH
X-ORIGINAL-URL:https://txsfst.org
X-WR-CALDESC:Events for Texas SFST
REFRESH-INTERVAL;VALUE=DURATION:PT1H
X-Robots-Tag:noindex
X-PUBLISHED-TTL:PT1H
BEGIN:VTIMEZONE
TZID:America/Chicago
BEGIN:DAYLIGHT
TZOFFSETFROM:-0600
TZOFFSETTO:-0500
TZNAME:CDT
DTSTART:20230312T080000
END:DAYLIGHT
BEGIN:STANDARD
TZOFFSETFROM:-0500
TZOFFSETTO:-0600
TZNAME:CST
DTSTART:20231105T070000
END:STANDARD
BEGIN:DAYLIGHT
TZOFFSETFROM:-0600
TZOFFSETTO:-0500
TZNAME:CDT
DTSTART:20240310T080000
END:DAYLIGHT
BEGIN:STANDARD
TZOFFSETFROM:-0500
TZOFFSETTO:-0600
TZNAME:CST
DTSTART:20241103T070000
END:STANDARD
BEGIN:DAYLIGHT
TZOFFSETFROM:-0600
TZOFFSETTO:-0500
TZNAME:CDT
DTSTART:20250309T080000
END:DAYLIGHT
BEGIN:STANDARD
TZOFFSETFROM:-0500
TZOFFSETTO:-0600
TZNAME:CST
DTSTART:20251102T070000
END:STANDARD
END:VTIMEZONE
BEGIN:VEVENT
DTSTART;TZID=America/Chicago:20241031T080000
DTEND;TZID=America/Chicago:20241031T170000
DTSTAMP:20260420T182437
CREATED:20240911T140245Z
LAST-MODIFIED:20240911T140245Z
UID:10000597-1730361600-1730394000@txsfst.org
SUMMARY:Bandera Co FREE 8 – HR SFST Refresher Course
DESCRIPTION:This is an 8-hour SFST refresher course designed to improve the administration and overall consistency of the Standardized Field Sobriety Test (SFST) Battery. Our mission is to decrease alcohol-related crashes\, injuries\, and deaths by promoting DWI deterrence and enforcement proficiency. \n*Successful completion of the Standardized Field Sobriety Testing Practitioner Course is a prerequisite.
URL:https://txsfst.org/event/bandera-co-free-8-hr-sfst-refresher-course-2/
LOCATION:Bandera County District Court – Courtroom B\, 3360 Texas 173\, Bandera\, TX\, 78003\, United States
CATEGORIES:8-HR SFST Refresher 2178/2177
ATTACH;FMTTYPE=image/png:https://txsfst.org/wp-content/uploads/2022/10/Refresher-Flag.png
GEO:29.7693389;-99.0598491
X-APPLE-STRUCTURED-LOCATION;VALUE=URI;X-ADDRESS=Bandera County District Court – Courtroom B 3360 Texas 173 Bandera TX 78003 United States;X-APPLE-RADIUS=500;X-TITLE=3360 Texas 173:geo:-99.0598491,29.7693389
END:VEVENT
BEGIN:VEVENT
DTSTART;TZID=America/Chicago:20241029T080000
DTEND;TZID=America/Chicago:20241029T170000
DTSTAMP:20260420T182437
CREATED:20240911T140052Z
LAST-MODIFIED:20240911T140052Z
UID:10000596-1730188800-1730221200@txsfst.org
SUMMARY:Bandera Co FREE 8 – HR SFST Refresher Course
DESCRIPTION:This is an 8-hour SFST refresher course designed to improve the administration and overall consistency of the Standardized Field Sobriety Test (SFST) Battery. Our mission is to decrease alcohol-related crashes\, injuries\, and deaths by promoting DWI deterrence and enforcement proficiency. \n*Successful completion of the Standardized Field Sobriety Testing Practitioner Course is a prerequisite.
URL:https://txsfst.org/event/bandera-co-free-8-hr-sfst-refresher-course/
LOCATION:Bandera County District Court – Courtroom B\, 3360 Texas 173\, Bandera\, TX\, 78003\, United States
CATEGORIES:8-HR SFST Refresher 2178/2177
ATTACH;FMTTYPE=image/png:https://txsfst.org/wp-content/uploads/2022/10/Refresher-Flag.png
GEO:29.7693389;-99.0598491
X-APPLE-STRUCTURED-LOCATION;VALUE=URI;X-ADDRESS=Bandera County District Court – Courtroom B 3360 Texas 173 Bandera TX 78003 United States;X-APPLE-RADIUS=500;X-TITLE=3360 Texas 173:geo:-99.0598491,29.7693389
END:VEVENT
END:VCALENDAR