BEGIN:VCALENDAR
VERSION:2.0
PRODID:-//Texas SFST - ECPv6.15.20//NONSGML v1.0//EN
CALSCALE:GREGORIAN
METHOD:PUBLISH
X-WR-CALNAME:Texas SFST
X-ORIGINAL-URL:https://txsfst.org
X-WR-CALDESC:Events for Texas SFST
REFRESH-INTERVAL;VALUE=DURATION:PT1H
X-Robots-Tag:noindex
X-PUBLISHED-TTL:PT1H
BEGIN:VTIMEZONE
TZID:America/Chicago
BEGIN:DAYLIGHT
TZOFFSETFROM:-0600
TZOFFSETTO:-0500
TZNAME:CDT
DTSTART:20220313T080000
END:DAYLIGHT
BEGIN:STANDARD
TZOFFSETFROM:-0500
TZOFFSETTO:-0600
TZNAME:CST
DTSTART:20221106T070000
END:STANDARD
BEGIN:DAYLIGHT
TZOFFSETFROM:-0600
TZOFFSETTO:-0500
TZNAME:CDT
DTSTART:20230312T080000
END:DAYLIGHT
BEGIN:STANDARD
TZOFFSETFROM:-0500
TZOFFSETTO:-0600
TZNAME:CST
DTSTART:20231105T070000
END:STANDARD
BEGIN:DAYLIGHT
TZOFFSETFROM:-0600
TZOFFSETTO:-0500
TZNAME:CDT
DTSTART:20240310T080000
END:DAYLIGHT
BEGIN:STANDARD
TZOFFSETFROM:-0500
TZOFFSETTO:-0600
TZNAME:CST
DTSTART:20241103T070000
END:STANDARD
BEGIN:DAYLIGHT
TZOFFSETFROM:-0600
TZOFFSETTO:-0500
TZNAME:CDT
DTSTART:20250309T080000
END:DAYLIGHT
BEGIN:STANDARD
TZOFFSETFROM:-0500
TZOFFSETTO:-0600
TZNAME:CST
DTSTART:20251102T070000
END:STANDARD
END:VTIMEZONE
BEGIN:VEVENT
DTSTART;TZID=America/Chicago:20240628T080000
DTEND;TZID=America/Chicago:20240628T170000
DTSTAMP:20260425T101342
CREATED:20240617T010656Z
LAST-MODIFIED:20240617T010656Z
UID:10000580-1719561600-1719594000@txsfst.org
SUMMARY:Amarillo FREE 8 – HR SFST Refresher Course
DESCRIPTION:This is an 8-hour SFST refresher course designed to improve the administration and overall consistency of the Standardized Field Sobriety Test (SFST) Battery. Our mission is to decrease alcohol-related crashes\, injuries\, and deaths by promoting DWI deterrence and enforcement proficiency. \n*Successful completion of the Standardized Field Sobriety Testing Practitioner Course is a prerequisite.
URL:https://txsfst.org/event/amarillo-free-8-hr-sfst-refresher-course-4/
LOCATION:Amarillo College West Campus\, 6222 SW 9th St. Bldg C\, Amarillo\, TX\, 79106\, United States
CATEGORIES:8-HR SFST Refresher 2178/2177
ATTACH;FMTTYPE=image/png:https://txsfst.org/wp-content/uploads/2022/10/Refresher-Flag.png
GEO:35.2067965;-101.9072693
X-APPLE-STRUCTURED-LOCATION;VALUE=URI;X-ADDRESS=Amarillo College West Campus 6222 SW 9th St. Bldg C Amarillo TX 79106 United States;X-APPLE-RADIUS=500;X-TITLE=6222 SW 9th St. Bldg C:geo:-101.9072693,35.2067965
END:VEVENT
BEGIN:VEVENT
DTSTART;TZID=America/Chicago:20230428T080000
DTEND;TZID=America/Chicago:20230428T170000
DTSTAMP:20260425T101342
CREATED:20230331T154312Z
LAST-MODIFIED:20230331T154312Z
UID:10000467-1682668800-1682701200@txsfst.org
SUMMARY:Amarillo FREE 8 – HR SFST Refresher Course
DESCRIPTION:This is an 8-hour SFST refresher course designed to improve the administration and overall consistency of the Standardized Field Sobriety Test (SFST) Battery. Our mission is to decrease alcohol-related crashes\, injuries\, and deaths by promoting DWI deterrence and enforcement proficiency. \n*Successful completion of the Standardized Field Sobriety Testing Practitioner Course is a prerequisite.
URL:https://txsfst.org/event/amarillo-free-8-hr-sfst-refresher-course-3/
LOCATION:Amarillo College West Campus\, 6222 SW 9th St. Bldg C\, Amarillo\, TX\, 79106\, United States
CATEGORIES:8-HR SFST Refresher 2178/2177
ATTACH;FMTTYPE=image/png:https://txsfst.org/wp-content/uploads/2022/10/Refresher-Flag.png
GEO:35.2067965;-101.9072693
X-APPLE-STRUCTURED-LOCATION;VALUE=URI;X-ADDRESS=Amarillo College West Campus 6222 SW 9th St. Bldg C Amarillo TX 79106 United States;X-APPLE-RADIUS=500;X-TITLE=6222 SW 9th St. Bldg C:geo:-101.9072693,35.2067965
END:VEVENT
BEGIN:VEVENT
DTSTART;TZID=America/Chicago:20230323T080000
DTEND;TZID=America/Chicago:20230323T170000
DTSTAMP:20260425T101342
CREATED:20230214T220358Z
LAST-MODIFIED:20230214T220358Z
UID:10000456-1679558400-1679590800@txsfst.org
SUMMARY:Amarillo FREE 8 – HR SFST Refresher Course
DESCRIPTION:This is an 8-hour SFST refresher course designed to improve the administration and overall consistency of the Standardized Field Sobriety Test (SFST) Battery. Our mission is to decrease alcohol-related crashes\, injuries\, and deaths by promoting DWI deterrence and enforcement proficiency. \n*Successful completion of the Standardized Field Sobriety Testing Practitioner Course is a prerequisite.
URL:https://txsfst.org/event/amarillo-free-8-hr-sfst-refresher-course-2/
LOCATION:Amarillo College West Campus\, 6222 SW 9th St. Bldg C\, Amarillo\, TX\, 79106\, United States
CATEGORIES:8-HR SFST Refresher 2178/2177
ATTACH;FMTTYPE=image/png:https://txsfst.org/wp-content/uploads/2022/10/Refresher-Flag.png
GEO:35.2067965;-101.9072693
X-APPLE-STRUCTURED-LOCATION;VALUE=URI;X-ADDRESS=Amarillo College West Campus 6222 SW 9th St. Bldg C Amarillo TX 79106 United States;X-APPLE-RADIUS=500;X-TITLE=6222 SW 9th St. Bldg C:geo:-101.9072693,35.2067965
END:VEVENT
END:VCALENDAR