BEGIN:VCALENDAR
VERSION:2.0
PRODID:-//Texas SFST - ECPv6.15.20//NONSGML v1.0//EN
CALSCALE:GREGORIAN
METHOD:PUBLISH
X-WR-CALNAME:Texas SFST
X-ORIGINAL-URL:https://txsfst.org
X-WR-CALDESC:Events for Texas SFST
REFRESH-INTERVAL;VALUE=DURATION:PT1H
X-Robots-Tag:noindex
X-PUBLISHED-TTL:PT1H
BEGIN:VTIMEZONE
TZID:America/Chicago
BEGIN:DAYLIGHT
TZOFFSETFROM:-0600
TZOFFSETTO:-0500
TZNAME:CDT
DTSTART:20200308T080000
END:DAYLIGHT
BEGIN:STANDARD
TZOFFSETFROM:-0500
TZOFFSETTO:-0600
TZNAME:CST
DTSTART:20201101T070000
END:STANDARD
BEGIN:DAYLIGHT
TZOFFSETFROM:-0600
TZOFFSETTO:-0500
TZNAME:CDT
DTSTART:20210314T080000
END:DAYLIGHT
BEGIN:STANDARD
TZOFFSETFROM:-0500
TZOFFSETTO:-0600
TZNAME:CST
DTSTART:20211107T070000
END:STANDARD
BEGIN:DAYLIGHT
TZOFFSETFROM:-0600
TZOFFSETTO:-0500
TZNAME:CDT
DTSTART:20220313T080000
END:DAYLIGHT
BEGIN:STANDARD
TZOFFSETFROM:-0500
TZOFFSETTO:-0600
TZNAME:CST
DTSTART:20221106T070000
END:STANDARD
END:VTIMEZONE
BEGIN:VEVENT
DTSTART;TZID=America/Chicago:20210419T080000
DTEND;TZID=America/Chicago:20210419T170000
DTSTAMP:20260419T190917
CREATED:20210324T140551Z
LAST-MODIFIED:20210324T140551Z
UID:10000006-1618819200-1618851600@txsfst.org
SUMMARY:Alton - FREE 8 – HR SFST Refresher Course
DESCRIPTION:This is an 8-hour SFST refresher course designed to improve the administration and overall consistency of the Standardized Field Sobriety Test (SFST) Battery. Our mission is to decrease alcohol-related crashes\, injuries\, and deaths by promoting DWI deterrence and enforcement proficiency. \n*Successful completion of the Standardized Field Sobriety Testing Practitioner Course is a prerequisite.
URL:https://txsfst.org/event/alton-free-8-hr-sfst-refresher-course/
LOCATION:Alton Recreation Center\, 349 W. Dawes Avenue\, Alton\, TX\, 78573\, United States
CATEGORIES:8-HR SFST Refresher 2178/2177
ATTACH;FMTTYPE=:
GEO:26.2816872;-98.3167614
X-APPLE-STRUCTURED-LOCATION;VALUE=URI;X-ADDRESS=Alton Recreation Center 349 W. Dawes Avenue Alton TX 78573 United States;X-APPLE-RADIUS=500;X-TITLE=349 W. Dawes Avenue:geo:-98.3167614,26.2816872
END:VEVENT
END:VCALENDAR