BEGIN:VCALENDAR
VERSION:2.0
PRODID:-//Texas SFST - ECPv6.15.20//NONSGML v1.0//EN
CALSCALE:GREGORIAN
METHOD:PUBLISH
X-WR-CALNAME:Texas SFST
X-ORIGINAL-URL:https://txsfst.org
X-WR-CALDESC:Events for Texas SFST
REFRESH-INTERVAL;VALUE=DURATION:PT1H
X-Robots-Tag:noindex
X-PUBLISHED-TTL:PT1H
BEGIN:VTIMEZONE
TZID:America/Chicago
BEGIN:DAYLIGHT
TZOFFSETFROM:-0600
TZOFFSETTO:-0500
TZNAME:CDT
DTSTART:20250309T080000
END:DAYLIGHT
BEGIN:STANDARD
TZOFFSETFROM:-0500
TZOFFSETTO:-0600
TZNAME:CST
DTSTART:20251102T070000
END:STANDARD
BEGIN:DAYLIGHT
TZOFFSETFROM:-0600
TZOFFSETTO:-0500
TZNAME:CDT
DTSTART:20260308T080000
END:DAYLIGHT
BEGIN:STANDARD
TZOFFSETFROM:-0500
TZOFFSETTO:-0600
TZNAME:CST
DTSTART:20261101T070000
END:STANDARD
BEGIN:DAYLIGHT
TZOFFSETFROM:-0600
TZOFFSETTO:-0500
TZNAME:CDT
DTSTART:20270314T080000
END:DAYLIGHT
BEGIN:STANDARD
TZOFFSETFROM:-0500
TZOFFSETTO:-0600
TZNAME:CST
DTSTART:20271107T070000
END:STANDARD
END:VTIMEZONE
BEGIN:VEVENT
DTSTART;TZID=America/Chicago:20260421T080000
DTEND;TZID=America/Chicago:20260421T170000
DTSTAMP:20260419T111858
CREATED:20260407T154613Z
LAST-MODIFIED:20260407T154614Z
UID:10000803-1776758400-1776790800@txsfst.org
SUMMARY:Fort Bend Co FREE 8 – HR SFST Refresher Course
DESCRIPTION:This is an 8-hour SFST refresher course designed to improve the administration and overall consistency of the Standardized Field Sobriety Test (SFST) Battery. Our mission is to decrease alcohol-related crashes\, injuries\, and deaths by promoting DWI deterrence and enforcement proficiency. \n*Successful completion of the Standardized Field Sobriety Testing Practitioner Course is a prerequisite.
URL:https://txsfst.org/event/fort-bend-co-free-8-hr-sfst-refresher-course-2-2-2/
LOCATION:Gus George Law Enforcement Academy\, 1521 Eugene Heimann Circle\, Richmond\, TX\, 77469\, United States
CATEGORIES:8-HR SFST Refresher 2178/2177
ATTACH;FMTTYPE=image/png:https://txsfst.org/wp-content/uploads/2022/10/Refresher-Flag.png
GEO:29.5751655;-95.7512351
X-APPLE-STRUCTURED-LOCATION;VALUE=URI;X-ADDRESS=Gus George Law Enforcement Academy 1521 Eugene Heimann Circle Richmond TX 77469 United States;X-APPLE-RADIUS=500;X-TITLE=1521 Eugene Heimann Circle:geo:-95.7512351,29.5751655
END:VEVENT
BEGIN:VEVENT
DTSTART;TZID=America/Chicago:20260423T080000
DTEND;TZID=America/Chicago:20260423T170000
DTSTAMP:20260419T111858
CREATED:20260323T221128Z
LAST-MODIFIED:20260323T221128Z
UID:10000860-1776931200-1776963600@txsfst.org
SUMMARY:Waller County FREE 8 – HR SFST Refresher Course
DESCRIPTION:This is an 8-hour SFST refresher course designed to improve the administration and overall consistency of the Standardized Field Sobriety Test (SFST) Battery. Our mission is to decrease alcohol-related crashes\, injuries\, and deaths by promoting DWI deterrence and enforcement proficiency. \n*Successful completion of the Standardized Field Sobriety Testing Practitioner Course is a prerequisite.
URL:https://txsfst.org/event/waller-county-free-8-hr-sfst-refresher-course/2026-04-23/
LOCATION:Waller-Harris ESD 200\, 540 Ellen Powell\, Prairie View\, TX\, 77446\, United States
CATEGORIES:8-HR SFST Refresher 2178/2177
ATTACH;FMTTYPE=image/png:https://txsfst.org/wp-content/uploads/2022/10/Refresher-Flag.png
GEO:30.076646;-96.0027178
X-APPLE-STRUCTURED-LOCATION;VALUE=URI;X-ADDRESS=Waller-Harris ESD 200 540 Ellen Powell Prairie View TX 77446 United States;X-APPLE-RADIUS=500;X-TITLE=540 Ellen Powell:geo:-96.0027178,30.076646
END:VEVENT
BEGIN:VEVENT
DTSTART;TZID=America/Chicago:20260429T080000
DTEND;TZID=America/Chicago:20260501T170000
DTSTAMP:20260419T111858
CREATED:20251222T173613Z
LAST-MODIFIED:20260306T215334Z
UID:10000789-1777449600-1777654800@txsfst.org
SUMMARY:La Porte FREE 24 - HR SFST Practitioner Course
DESCRIPTION:This training course uses the nationally standardized SFST curriculum and prepares Texas Peace Officers to administer and interpret the results of the Standardized Field Sobriety Testing battery. This course is offered to bridge the gap in officers who attended the Basic Peace Officer Course in Texas prior to January 1\, 2005\, when this course was mandated to be included in all Texas BPOCs. \nTentative Schedule for this course:\nDay 1: 8am – 5pm\nDay 2: 12pm – 9pm\nDay 3: 12pm – 9pm
URL:https://txsfst.org/event/la-porte-free-24-hr-sfst-practitioner-course-4/
LOCATION:La Porte Police Department Training Academy\, 3001 N. 23rd Street\, La Porte\, TX\, 77571\, United States
CATEGORIES:24-HR SFST Practitioner 2067
ATTACH;FMTTYPE=image/png:https://txsfst.org/wp-content/uploads/2022/10/Practitioner-Flag.png
GEO:29.6660594;-95.0422241
X-APPLE-STRUCTURED-LOCATION;VALUE=URI;X-ADDRESS=La Porte Police Department Training Academy 3001 N. 23rd Street La Porte TX 77571 United States;X-APPLE-RADIUS=500;X-TITLE=3001 N. 23rd Street:geo:-95.0422241,29.6660594
END:VEVENT
BEGIN:VEVENT
DTSTART;TZID=America/Chicago:20260505T080000
DTEND;TZID=America/Chicago:20260505T170000
DTSTAMP:20260419T111858
CREATED:20260303T211323Z
LAST-MODIFIED:20260306T215439Z
UID:10000823-1777968000-1778000400@txsfst.org
SUMMARY:Caldwell Co FREE 8 – HR SFST Refresher Course
DESCRIPTION:This is an 8-hour SFST refresher course designed to improve the administration and overall consistency of the Standardized Field Sobriety Test (SFST) Battery. Our mission is to decrease alcohol-related crashes\, injuries\, and deaths by promoting DWI deterrence and enforcement proficiency. \n*Successful completion of the Standardized Field Sobriety Testing Practitioner Course is a prerequisite.
URL:https://txsfst.org/event/free-8-hr-sfst-refresher-course-20/
LOCATION:Caldwell Civic Justice Center\, 1703 S. Colorado\, Lockhart\, TX\, 78644\, United States
CATEGORIES:8-HR SFST Refresher 2178/2177
ATTACH;FMTTYPE=image/png:https://txsfst.org/wp-content/uploads/2022/10/Refresher-Flag.png
GEO:29.8629586;-97.6700962
X-APPLE-STRUCTURED-LOCATION;VALUE=URI;X-ADDRESS=Caldwell Civic Justice Center 1703 S. Colorado Lockhart TX 78644 United States;X-APPLE-RADIUS=500;X-TITLE=1703 S. Colorado:geo:-97.6700962,29.8629586
END:VEVENT
BEGIN:VEVENT
DTSTART;TZID=America/Chicago:20260507T080000
DTEND;TZID=America/Chicago:20260507T170000
DTSTAMP:20260419T111858
CREATED:20260303T213814Z
LAST-MODIFIED:20260306T224808Z
UID:10000824-1778140800-1778173200@txsfst.org
SUMMARY:Caldwell Co FREE 8 – HR SFST Refresher Course
DESCRIPTION:This is an 8-hour SFST refresher course designed to improve the administration and overall consistency of the Standardized Field Sobriety Test (SFST) Battery. Our mission is to decrease alcohol-related crashes\, injuries\, and deaths by promoting DWI deterrence and enforcement proficiency. \n*Successful completion of the Standardized Field Sobriety Testing Practitioner Course is a prerequisite.
URL:https://txsfst.org/event/caldwell-co-free-8-hr-sfst-refresher-course/
LOCATION:Caldwell Civic Justice Center\, 1703 S. Colorado\, Lockhart\, TX\, 78644\, United States
CATEGORIES:8-HR SFST Refresher 2178/2177
ATTACH;FMTTYPE=image/png:https://txsfst.org/wp-content/uploads/2022/10/Refresher-Flag.png
GEO:29.8629586;-97.6700962
X-APPLE-STRUCTURED-LOCATION;VALUE=URI;X-ADDRESS=Caldwell Civic Justice Center 1703 S. Colorado Lockhart TX 78644 United States;X-APPLE-RADIUS=500;X-TITLE=1703 S. Colorado:geo:-97.6700962,29.8629586
END:VEVENT
BEGIN:VEVENT
DTSTART;TZID=America/Chicago:20260519T080000
DTEND;TZID=America/Chicago:20260521T170000
DTSTAMP:20260419T111858
CREATED:20260215T204432Z
LAST-MODIFIED:20260306T224903Z
UID:10000821-1779177600-1779382800@txsfst.org
SUMMARY:Early FREE 24 - HR SFST Practitioner Course
DESCRIPTION:This training course uses the nationally standardized SFST curriculum and prepares Texas Peace Officers to administer and interpret the results of the Standardized Field Sobriety Testing battery. This course is offered to bridge the gap in officers who attended the Basic Peace Officer Course in Texas prior to January 1\, 2005\, when this course was mandated to be included in all Texas BPOCs. \nTentative Schedule for this course:\nDay 1: 8am – 5pm\nDay 2: 12pm – 9pm\nDay 3: 12pm – 9pm
URL:https://txsfst.org/event/early-free-24-hr-sfst-practitioner-course/
LOCATION:Early Visitor and Event Center\, 419 Garmon Drive (US Hwy 84/183)\, Early\, TX\, 76802\, United States
CATEGORIES:24-HR SFST Practitioner 2067
ATTACH;FMTTYPE=image/png:https://txsfst.org/wp-content/uploads/2022/10/Practitioner-Flag.png
GEO:31.737967;-98.9374497
X-APPLE-STRUCTURED-LOCATION;VALUE=URI;X-ADDRESS=Early Visitor and Event Center 419 Garmon Drive (US Hwy 84/183) Early TX 76802 United States;X-APPLE-RADIUS=500;X-TITLE=419 Garmon Drive (US Hwy 84/183):geo:-98.9374497,31.737967
END:VEVENT
BEGIN:VEVENT
DTSTART;TZID=America/Chicago:20260602T080000
DTEND;TZID=America/Chicago:20260602T170000
DTSTAMP:20260419T111858
CREATED:20260303T221656Z
LAST-MODIFIED:20260306T224942Z
UID:10000825-1780387200-1780419600@txsfst.org
SUMMARY:Ransom FREE 8 – HR SFST Refresher Course
DESCRIPTION:This is an 8-hour SFST refresher course designed to improve the administration and overall consistency of the Standardized Field Sobriety Test (SFST) Battery. Our mission is to decrease alcohol-related crashes\, injuries\, and deaths by promoting DWI deterrence and enforcement proficiency. \n*Successful completion of the Standardized Field Sobriety Testing Practitioner Course is a prerequisite.
URL:https://txsfst.org/event/ransom-free-8-hr-sfst-refresher-course/
LOCATION:The Ranch House\, 1 Island Dr.\, Ransom Canyon\, TX\, 79366\, United States
CATEGORIES:8-HR SFST Refresher 2178/2177
ATTACH;FMTTYPE=image/png:https://txsfst.org/wp-content/uploads/2022/10/Refresher-Flag.png
GEO:33.5293739;-101.6832581
X-APPLE-STRUCTURED-LOCATION;VALUE=URI;X-ADDRESS=The Ranch House 1 Island Dr. Ransom Canyon TX 79366 United States;X-APPLE-RADIUS=500;X-TITLE=1 Island Dr.:geo:-101.6832581,33.5293739
END:VEVENT
BEGIN:VEVENT
DTSTART;TZID=America/Chicago:20260604T080000
DTEND;TZID=America/Chicago:20260604T170000
DTSTAMP:20260419T111858
CREATED:20260119T194009Z
LAST-MODIFIED:20260306T225119Z
UID:10000807-1780560000-1780592400@txsfst.org
SUMMARY:Harris Co FREE 8 – HR SFST Refresher Course
DESCRIPTION:This is an 8-hour SFST refresher course designed to improve the administration and overall consistency of the Standardized Field Sobriety Test (SFST) Battery. Our mission is to decrease alcohol-related crashes\, injuries\, and deaths by promoting DWI deterrence and enforcement proficiency. \n*Successful completion of the Standardized Field Sobriety Testing Practitioner Course is a prerequisite.
URL:https://txsfst.org/event/harris-co-free-8-hr-sfst-refresher-course-6/
LOCATION:Harris County Sheriff’s Office\, 2316 Atascocita Rd\, Humble\, TX\, 77396\, United States
CATEGORIES:8-HR SFST Refresher 2178/2177
ATTACH;FMTTYPE=image/png:https://txsfst.org/wp-content/uploads/2022/10/Refresher-Flag.png
GEO:29.9711627;-95.2318344
X-APPLE-STRUCTURED-LOCATION;VALUE=URI;X-ADDRESS=Harris County Sheriff’s Office 2316 Atascocita Rd Humble TX 77396 United States;X-APPLE-RADIUS=500;X-TITLE=2316 Atascocita Rd:geo:-95.2318344,29.9711627
END:VEVENT
BEGIN:VEVENT
DTSTART;TZID=America/Chicago:20260616T080000
DTEND;TZID=America/Chicago:20260616T170000
DTSTAMP:20260419T111858
CREATED:20260310T172846Z
LAST-MODIFIED:20260310T172846Z
UID:10000848-1781596800-1781629200@txsfst.org
SUMMARY:Texarkana FREE 8 – HR SFST Refresher Course
DESCRIPTION:This is an 8-hour SFST refresher course designed to improve the administration and overall consistency of the Standardized Field Sobriety Test (SFST) Battery. Our mission is to decrease alcohol-related crashes\, injuries\, and deaths by promoting DWI deterrence and enforcement proficiency. \n*Successful completion of the Standardized Field Sobriety Testing Practitioner Course is a prerequisite.
URL:https://txsfst.org/event/texarkana-free-8-hr-sfst-refresher-course-3/
LOCATION:Texarkana Special Operations and Training Center\, 1420 S. Park Rd\, Texarkana\, TX\, 75503\, United States
CATEGORIES:8-HR SFST Refresher 2178/2177
ATTACH;FMTTYPE=image/png:https://txsfst.org/wp-content/uploads/2022/10/Refresher-Flag.png
GEO:33.4612028;-94.0584725
X-APPLE-STRUCTURED-LOCATION;VALUE=URI;X-ADDRESS=Texarkana Special Operations and Training Center 1420 S. Park Rd Texarkana TX 75503 United States;X-APPLE-RADIUS=500;X-TITLE=1420 S. Park Rd:geo:-94.0584725,33.4612028
END:VEVENT
BEGIN:VEVENT
DTSTART;TZID=America/Chicago:20260618T080000
DTEND;TZID=America/Chicago:20260618T170000
DTSTAMP:20260419T111858
CREATED:20260306T215059Z
LAST-MODIFIED:20260401T135243Z
UID:10000804-1781769600-1781802000@txsfst.org
SUMMARY:Fort Bend Co FREE 8 – HR SFST Refresher Course
DESCRIPTION:This is an 8-hour SFST refresher course designed to improve the administration and overall consistency of the Standardized Field Sobriety Test (SFST) Battery. Our mission is to decrease alcohol-related crashes\, injuries\, and deaths by promoting DWI deterrence and enforcement proficiency. \n*Successful completion of the Standardized Field Sobriety Testing Practitioner Course is a prerequisite.
URL:https://txsfst.org/event/fort-bend-co-free-8-hr-sfst-refresher-course-2-2/2026-06-18/
LOCATION:Gus George Law Enforcement Academy\, 1521 Eugene Heimann Circle\, Richmond\, TX\, 77469\, United States
CATEGORIES:8-HR SFST Refresher 2178/2177
ATTACH;FMTTYPE=image/png:https://txsfst.org/wp-content/uploads/2022/10/Refresher-Flag.png
GEO:29.5751655;-95.7512351
X-APPLE-STRUCTURED-LOCATION;VALUE=URI;X-ADDRESS=Gus George Law Enforcement Academy 1521 Eugene Heimann Circle Richmond TX 77469 United States;X-APPLE-RADIUS=500;X-TITLE=1521 Eugene Heimann Circle:geo:-95.7512351,29.5751655
END:VEVENT
BEGIN:VEVENT
DTSTART;TZID=America/Chicago:20260630T080000
DTEND;TZID=America/Chicago:20260630T170000
DTSTAMP:20260419T111858
CREATED:20260409T200936Z
LAST-MODIFIED:20260409T200936Z
UID:10000872-1782806400-1782838800@txsfst.org
SUMMARY:Wharton Co FREE 8 – HR SFST Refresher Course
DESCRIPTION:This is an 8-hour SFST refresher course designed to improve the administration and overall consistency of the Standardized Field Sobriety Test (SFST) Battery. Our mission is to decrease alcohol-related crashes\, injuries\, and deaths by promoting DWI deterrence and enforcement proficiency. \n*Successful completion of the Standardized Field Sobriety Testing Practitioner Course is a prerequisite.
URL:https://txsfst.org/event/wharton-co-free-8-hr-sfst-refresher-course-2/
LOCATION:Wharton County Sheriff’s Office Training Building\, 405 E. Elm St.\, Wharton\, TX\, 77488\, United States
CATEGORIES:8-HR SFST Refresher 2178/2177
ATTACH;FMTTYPE=image/png:https://txsfst.org/wp-content/uploads/2022/10/Refresher-Flag.png
GEO:29.3083833;-96.0971784
X-APPLE-STRUCTURED-LOCATION;VALUE=URI;X-ADDRESS=Wharton County Sheriff’s Office Training Building 405 E. Elm St. Wharton TX 77488 United States;X-APPLE-RADIUS=500;X-TITLE=405 E. Elm St.:geo:-96.0971784,29.3083833
END:VEVENT
BEGIN:VEVENT
DTSTART;TZID=America/Chicago:20260721T080000
DTEND;TZID=America/Chicago:20260721T170000
DTSTAMP:20260419T111858
CREATED:20251222T170340Z
LAST-MODIFIED:20251222T170340Z
UID:10000841-1784620800-1784653200@txsfst.org
SUMMARY:Galveston FREE 8 – HR SFST Refresher Course
DESCRIPTION:This is an 8-hour SFST refresher course designed to improve the administration and overall consistency of the Standardized Field Sobriety Test (SFST) Battery. Our mission is to decrease alcohol-related crashes\, injuries\, and deaths by promoting DWI deterrence and enforcement proficiency. \n*Successful completion of the Standardized Field Sobriety Testing Practitioner Course is a prerequisite.
URL:https://txsfst.org/event/galveston-free-8-hr-sfst-refresher-course/
LOCATION:Galveston County Sheriff’s Office\, 601 54th St. Ste 1500\, Galveston\, TX\, 77551\, United States
CATEGORIES:8-HR SFST Refresher 2178/2177
ATTACH;FMTTYPE=image/png:https://txsfst.org/wp-content/uploads/2022/10/Refresher-Flag.png
GEO:29.2933928;-94.8305804
X-APPLE-STRUCTURED-LOCATION;VALUE=URI;X-ADDRESS=Galveston County Sheriff’s Office 601 54th St. Ste 1500 Galveston TX 77551 United States;X-APPLE-RADIUS=500;X-TITLE=601 54th St. Ste 1500:geo:-94.8305804,29.2933928
END:VEVENT
END:VCALENDAR