BEGIN:VCALENDAR
VERSION:2.0
PRODID:-//Texas SFST - ECPv6.15.20//NONSGML v1.0//EN
CALSCALE:GREGORIAN
METHOD:PUBLISH
X-ORIGINAL-URL:https://txsfst.org
X-WR-CALDESC:Events for Texas SFST
REFRESH-INTERVAL;VALUE=DURATION:PT1H
X-Robots-Tag:noindex
X-PUBLISHED-TTL:PT1H
BEGIN:VTIMEZONE
TZID:America/Chicago
BEGIN:DAYLIGHT
TZOFFSETFROM:-0600
TZOFFSETTO:-0500
TZNAME:CDT
DTSTART:20190310T080000
END:DAYLIGHT
BEGIN:STANDARD
TZOFFSETFROM:-0500
TZOFFSETTO:-0600
TZNAME:CST
DTSTART:20191103T070000
END:STANDARD
BEGIN:DAYLIGHT
TZOFFSETFROM:-0600
TZOFFSETTO:-0500
TZNAME:CDT
DTSTART:20200308T080000
END:DAYLIGHT
BEGIN:STANDARD
TZOFFSETFROM:-0500
TZOFFSETTO:-0600
TZNAME:CST
DTSTART:20201101T070000
END:STANDARD
BEGIN:DAYLIGHT
TZOFFSETFROM:-0600
TZOFFSETTO:-0500
TZNAME:CDT
DTSTART:20210314T080000
END:DAYLIGHT
BEGIN:STANDARD
TZOFFSETFROM:-0500
TZOFFSETTO:-0600
TZNAME:CST
DTSTART:20211107T070000
END:STANDARD
BEGIN:DAYLIGHT
TZOFFSETFROM:-0600
TZOFFSETTO:-0500
TZNAME:CDT
DTSTART:20220313T080000
END:DAYLIGHT
BEGIN:STANDARD
TZOFFSETFROM:-0500
TZOFFSETTO:-0600
TZNAME:CST
DTSTART:20221106T070000
END:STANDARD
BEGIN:DAYLIGHT
TZOFFSETFROM:-0600
TZOFFSETTO:-0500
TZNAME:CDT
DTSTART:20230312T080000
END:DAYLIGHT
BEGIN:STANDARD
TZOFFSETFROM:-0500
TZOFFSETTO:-0600
TZNAME:CST
DTSTART:20231105T070000
END:STANDARD
BEGIN:DAYLIGHT
TZOFFSETFROM:-0600
TZOFFSETTO:-0500
TZNAME:CDT
DTSTART:20240310T080000
END:DAYLIGHT
BEGIN:STANDARD
TZOFFSETFROM:-0500
TZOFFSETTO:-0600
TZNAME:CST
DTSTART:20241103T070000
END:STANDARD
BEGIN:DAYLIGHT
TZOFFSETFROM:-0600
TZOFFSETTO:-0500
TZNAME:CDT
DTSTART:20250309T080000
END:DAYLIGHT
BEGIN:STANDARD
TZOFFSETFROM:-0500
TZOFFSETTO:-0600
TZNAME:CST
DTSTART:20251102T070000
END:STANDARD
BEGIN:DAYLIGHT
TZOFFSETFROM:-0600
TZOFFSETTO:-0500
TZNAME:CDT
DTSTART:20260308T080000
END:DAYLIGHT
BEGIN:STANDARD
TZOFFSETFROM:-0500
TZOFFSETTO:-0600
TZNAME:CST
DTSTART:20261101T070000
END:STANDARD
END:VTIMEZONE
BEGIN:VEVENT
DTSTART;TZID=America/Chicago:20251006T080000
DTEND;TZID=America/Chicago:20251006T170000
DTSTAMP:20260421T065641
CREATED:20250926T161937Z
LAST-MODIFIED:20250926T161937Z
UID:10000754-1759737600-1759770000@txsfst.org
SUMMARY:Jack Co FREE 8 – HR SFST Refresher Course
DESCRIPTION:This is an 8-hour SFST refresher course designed to improve the administration and overall consistency of the Standardized Field Sobriety Test (SFST) Battery. Our mission is to decrease alcohol-related crashes\, injuries\, and deaths by promoting DWI deterrence and enforcement proficiency. \n*Successful completion of the Standardized Field Sobriety Testing Practitioner Course is a prerequisite.
URL:https://txsfst.org/event/jack-co-free-8-hr-sfst-refresher-course/
LOCATION:Jack County Sheriff’s Office\, 1432 FM 3344\, Jacksboro\, TX\, 76458\, United States
CATEGORIES:8-HR SFST Refresher 2178/2177
ATTACH;FMTTYPE=image/png:https://txsfst.org/wp-content/uploads/2022/10/Refresher-Flag.png
GEO:33.2184477;-98.1586558
X-APPLE-STRUCTURED-LOCATION;VALUE=URI;X-ADDRESS=Jack County Sheriff’s Office 1432 FM 3344 Jacksboro TX 76458 United States;X-APPLE-RADIUS=500;X-TITLE=1432 FM 3344:geo:-98.1586558,33.2184477
END:VEVENT
BEGIN:VEVENT
DTSTART;TZID=America/Chicago:20250203T080000
DTEND;TZID=America/Chicago:20250203T170000
DTSTAMP:20260421T065641
CREATED:20250108T230338Z
LAST-MODIFIED:20250108T230338Z
UID:10000654-1738569600-1738602000@txsfst.org
SUMMARY:Wichita FREE 8 – HR SFST Refresher Course
DESCRIPTION:This is an 8-hour SFST refresher course designed to improve the administration and overall consistency of the Standardized Field Sobriety Test (SFST) Battery. Our mission is to decrease alcohol-related crashes\, injuries\, and deaths by promoting DWI deterrence and enforcement proficiency. \n*Successful completion of the Standardized Field Sobriety Testing Practitioner Course is a prerequisite.
URL:https://txsfst.org/event/wichita-free-8-hr-sfst-refresher-course/
LOCATION:Vernon College Skills Center\, 2813 Central Freeway East\, Wichita Falls\, TX\, 76302\, United States
CATEGORIES:8-HR SFST Refresher 2178/2177
ATTACH;FMTTYPE=image/png:https://txsfst.org/wp-content/uploads/2022/10/Refresher-Flag.png
GEO:33.8843137;-98.4381293
X-APPLE-STRUCTURED-LOCATION;VALUE=URI;X-ADDRESS=Vernon College Skills Center 2813 Central Freeway East Wichita Falls TX 76302 United States;X-APPLE-RADIUS=500;X-TITLE=2813 Central Freeway East:geo:-98.4381293,33.8843137
END:VEVENT
BEGIN:VEVENT
DTSTART;TZID=America/Chicago:20240708T080000
DTEND;TZID=America/Chicago:20240708T170000
DTSTAMP:20260421T065641
CREATED:20240617T010851Z
LAST-MODIFIED:20240617T010851Z
UID:10000581-1720425600-1720458000@txsfst.org
SUMMARY:Young County FREE 8 – HR SFST Refresher Course
DESCRIPTION:This is an 8-hour SFST refresher course designed to improve the administration and overall consistency of the Standardized Field Sobriety Test (SFST) Battery. Our mission is to decrease alcohol-related crashes\, injuries\, and deaths by promoting DWI deterrence and enforcement proficiency. \n*Successful completion of the Standardized Field Sobriety Testing Practitioner Course is a prerequisite.
URL:https://txsfst.org/event/young-county-free-8-hr-sfst-refresher-course/
LOCATION:Olney First Baptist Church Training Room\, West Main Street\, Olney\, TX\, 76374\, United States
CATEGORIES:8-HR SFST Refresher 2178/2177
ATTACH;FMTTYPE=image/png:https://txsfst.org/wp-content/uploads/2022/10/Refresher-Flag.png
GEO:33.3701391;-98.7557246
X-APPLE-STRUCTURED-LOCATION;VALUE=URI;X-ADDRESS=Olney First Baptist Church Training Room West Main Street Olney TX 76374 United States;X-APPLE-RADIUS=500;X-TITLE=West Main Street:geo:-98.7557246,33.3701391
END:VEVENT
BEGIN:VEVENT
DTSTART;TZID=America/Chicago:20240213T080000
DTEND;TZID=America/Chicago:20240213T170000
DTSTAMP:20260421T065641
CREATED:20240108T181131Z
LAST-MODIFIED:20240108T231015Z
UID:10000522-1707811200-1707843600@txsfst.org
SUMMARY:Jacksboro FREE 8 - HR SFST Refresher Course
DESCRIPTION:This is an 8-hour SFST refresher course designed to improve the administration and overall consistency of the Standardized Field Sobriety Test (SFST) Battery. Our mission is to decrease alcohol-related crashes\, injuries\, and deaths by promoting DWI deterrence and enforcement proficiency. \n*Successful completion of the Standardized Field Sobriety Testing Practitioner Course is a prerequisite.
URL:https://txsfst.org/event/jacksboro-free-8-hr-sfst-refresher-course/
LOCATION:Jacksboro Fire Department\, 128 East College St.\, Jacksboro\, TX\, 76458\, United States
CATEGORIES:8-HR SFST Refresher 2178/2177
ATTACH;FMTTYPE=image/png:https://txsfst.org/wp-content/uploads/2022/10/Refresher-Flag.png
GEO:33.22017;-98.1577981
X-APPLE-STRUCTURED-LOCATION;VALUE=URI;X-ADDRESS=Jacksboro Fire Department 128 East College St. Jacksboro TX 76458 United States;X-APPLE-RADIUS=500;X-TITLE=128 East College St.:geo:-98.1577981,33.22017
END:VEVENT
BEGIN:VEVENT
DTSTART;TZID=America/Chicago:20230213T080000
DTEND;TZID=America/Chicago:20230213T170000
DTSTAMP:20260421T065641
CREATED:20230109T144925Z
LAST-MODIFIED:20230109T144925Z
UID:10000441-1676275200-1676307600@txsfst.org
SUMMARY:Wichita Falls FREE 8 – HR SFST Refresher Course
DESCRIPTION:This is an 8-hour SFST refresher course designed to improve the administration and overall consistency of the Standardized Field Sobriety Test (SFST) Battery. Our mission is to decrease alcohol-related crashes\, injuries\, and deaths by promoting DWI deterrence and enforcement proficiency. \n*Successful completion of the Standardized Field Sobriety Testing Practitioner Course is a prerequisite.
URL:https://txsfst.org/event/wichita-falls-free-8-hr-sfst-refresher-course-2/
LOCATION:Vernon College Skills Center\, 2813 Central Freeway East\, Wichita Falls\, TX\, 76302\, United States
CATEGORIES:8-HR SFST Refresher 2178/2177
ATTACH;FMTTYPE=image/png:https://txsfst.org/wp-content/uploads/2022/10/Refresher-Flag.png
GEO:33.8843137;-98.4381293
X-APPLE-STRUCTURED-LOCATION;VALUE=URI;X-ADDRESS=Vernon College Skills Center 2813 Central Freeway East Wichita Falls TX 76302 United States;X-APPLE-RADIUS=500;X-TITLE=2813 Central Freeway East:geo:-98.4381293,33.8843137
END:VEVENT
BEGIN:VEVENT
DTSTART;TZID=America/Chicago:20221206T080000
DTEND;TZID=America/Chicago:20221206T170000
DTSTAMP:20260421T065641
CREATED:20221103T154337Z
LAST-MODIFIED:20221103T154337Z
UID:10000417-1670313600-1670346000@txsfst.org
SUMMARY:Collin County FREE 8 – HR SFST Refresher Course
DESCRIPTION:This is an 8-hour SFST refresher course designed to improve the administration and overall consistency of the Standardized Field Sobriety Test (SFST) Battery. Our mission is to decrease alcohol-related crashes\, injuries\, and deaths by promoting DWI deterrence and enforcement proficiency. \n*Successful completion of the Standardized Field Sobriety Testing Practitioner Course is a prerequisite.
URL:https://txsfst.org/event/collin-county-free-8-hr-sfst-refresher-course/
LOCATION:Collin County College Public Safety Training Center\, 3600 Redbud Blvd\, Room 215\, McKinney\, TX\, 75071\, United States
CATEGORIES:8-HR SFST Refresher 2178/2177
ATTACH;FMTTYPE=image/png:https://txsfst.org/wp-content/uploads/2022/10/Refresher-Flag.png
GEO:33.2376029;-96.6224494
X-APPLE-STRUCTURED-LOCATION;VALUE=URI;X-ADDRESS=Collin County College Public Safety Training Center 3600 Redbud Blvd Room 215 McKinney TX 75071 United States;X-APPLE-RADIUS=500;X-TITLE=3600 Redbud Blvd\, Room 215:geo:-96.6224494,33.2376029
END:VEVENT
BEGIN:VEVENT
DTSTART;TZID=America/Chicago:20220308T080000
DTEND;TZID=America/Chicago:20220308T170000
DTSTAMP:20260421T065641
CREATED:20220201T145044Z
LAST-MODIFIED:20220303T143531Z
UID:10000316-1646726400-1646758800@txsfst.org
SUMMARY:CANCELLED Vernon College FREE 8 – HR SFST Refresher Course
DESCRIPTION:This is an 8-hour SFST refresher course designed to improve the administration and overall consistency of the Standardized Field Sobriety Test (SFST) Battery. Our mission is to decrease alcohol-related crashes\, injuries\, and deaths by promoting DWI deterrence and enforcement proficiency. \n*Successful completion of the Standardized Field Sobriety Testing Practitioner Course is a prerequisite.
URL:https://txsfst.org/event/vernon-college-free-8-hr-sfst-refresher-course/
LOCATION:Vernon College Skills Center\, 2813 Central Freeway East\, Wichita Falls\, TX\, 76302\, United States
CATEGORIES:8-HR SFST Refresher 2178/2177
ATTACH;FMTTYPE=image/jpeg:https://txsfst.org/wp-content/uploads/2021/11/SFST-Logo-N-O-1.jpg
GEO:33.8843137;-98.4381293
X-APPLE-STRUCTURED-LOCATION;VALUE=URI;X-ADDRESS=Vernon College Skills Center 2813 Central Freeway East Wichita Falls TX 76302 United States;X-APPLE-RADIUS=500;X-TITLE=2813 Central Freeway East:geo:-98.4381293,33.8843137
END:VEVENT
BEGIN:VEVENT
DTSTART;TZID=America/Chicago:20220112T080000
DTEND;TZID=America/Chicago:20220112T170000
DTSTAMP:20260421T065641
CREATED:20211203T141923Z
LAST-MODIFIED:20211203T141923Z
UID:10000295-1641974400-1642006800@txsfst.org
SUMMARY:Palo Pinto FREE 8 – HR SFST Refresher Course
DESCRIPTION:This is an 8-hour SFST refresher course designed to improve the administration and overall consistency of the Standardized Field Sobriety Test (SFST) Battery. Our mission is to decrease alcohol-related crashes\, injuries\, and deaths by promoting DWI deterrence and enforcement proficiency. \n*Successful completion of the Standardized Field Sobriety Testing Practitioner Course is a prerequisite.
URL:https://txsfst.org/event/palo-pinto-free-8-hr-sfst-refresher-course/
LOCATION:Possum Kingdom Chamber of Commerce\, 362 North FM 2353\, Graford\, TX\, 76449\, United States
CATEGORIES:8-HR SFST Refresher 2178/2177
ATTACH;FMTTYPE=image/jpeg:https://txsfst.org/wp-content/uploads/2021/10/SFST-Logo-N-O-e1635879206512.jpg
GEO:32.9177649;-98.4329022
X-APPLE-STRUCTURED-LOCATION;VALUE=URI;X-ADDRESS=Possum Kingdom Chamber of Commerce 362 North FM 2353 Graford TX 76449 United States;X-APPLE-RADIUS=500;X-TITLE=362 North FM 2353:geo:-98.4329022,32.9177649
END:VEVENT
BEGIN:VEVENT
DTSTART;TZID=America/Chicago:20210510T080000
DTEND;TZID=America/Chicago:20210510T170000
DTSTAMP:20260421T065641
CREATED:20210419T181354Z
LAST-MODIFIED:20210419T181354Z
UID:10000170-1620633600-1620666000@txsfst.org
SUMMARY:Montague Co FREE 8 – HR SFST Refresher Course
DESCRIPTION:This is an 8-hour SFST refresher course designed to improve the administration and overall consistency of the Standardized Field Sobriety Test (SFST) Battery. Our mission is to decrease alcohol-related crashes\, injuries\, and deaths by promoting DWI deterrence and enforcement proficiency. \n*Successful completion of the Standardized Field Sobriety Testing Practitioner Course is a prerequisite.
URL:https://txsfst.org/event/montague-co-free-8-hr-sfst-refresher-course/
LOCATION:Montague County Annex Building\, 11339 State Highway 59\, Montague\, TX\, 76251\, United States
CATEGORIES:8-HR SFST Refresher 2178/2177
ATTACH;FMTTYPE=:
GEO:33.6652828;-97.7200281
X-APPLE-STRUCTURED-LOCATION;VALUE=URI;X-ADDRESS=Montague County Annex Building 11339 State Highway 59 Montague TX 76251 United States;X-APPLE-RADIUS=500;X-TITLE=11339 State Highway 59:geo:-97.7200281,33.6652828
END:VEVENT
BEGIN:VEVENT
DTSTART;TZID=America/Chicago:20210504T080000
DTEND;TZID=America/Chicago:20210506T210000
DTSTAMP:20260421T065641
CREATED:20210309T155017Z
LAST-MODIFIED:20210309T155017Z
UID:10000058-1620115200-1620334800@txsfst.org
SUMMARY:Wichita Falls - FREE 24 - HR SFST Practitioner Course
DESCRIPTION:This training course uses the nationally standardized SFST curriculum and prepares Texas Peace Officers to administer and interpret the results of the Standardized Field Sobriety Testing battery. This course is offered to bridge the gap in officers who attended the Basic Peace Officer Course in Texas prior to January 1\, 2005\, when this course was mandated to be included in all Texas BPOCs. \nSchedule for this course:\nDay 1: 8am – 5pm\nDay 2: 12pm – 9pm\nDay 3: 12pm – 9pm
URL:https://txsfst.org/event/wichita-falls-free-24-hr-sfst-practitioner-course/
LOCATION:Vernon College Skills Center\, 2813 Central Freeway East\, Wichita Falls\, TX\, 76302\, United States
CATEGORIES:24-HR SFST Practitioner 2067
ATTACH;FMTTYPE=:
GEO:33.8843137;-98.4381293
X-APPLE-STRUCTURED-LOCATION;VALUE=URI;X-ADDRESS=Vernon College Skills Center 2813 Central Freeway East Wichita Falls TX 76302 United States;X-APPLE-RADIUS=500;X-TITLE=2813 Central Freeway East:geo:-98.4381293,33.8843137
END:VEVENT
BEGIN:VEVENT
DTSTART;TZID=America/Chicago:20210325T080000
DTEND;TZID=America/Chicago:20210325T170000
DTSTAMP:20260421T065641
CREATED:20210126T192841Z
LAST-MODIFIED:20210126T192841Z
UID:10000025-1616659200-1616691600@txsfst.org
SUMMARY:Wichita Falls FREE 8 – HR SFST Refresher Course
DESCRIPTION:This is an 8-hour SFST refresher course designed to improve the administration and overall consistency of the Standardized Field Sobriety Test (SFST) Battery. Our mission is to decrease alcohol-related crashes\, injuries\, and deaths by promoting DWI deterrence and enforcement proficiency. \n*Successful completion of the Standardized Field Sobriety Testing Practitioner Course is a prerequisite.
URL:https://txsfst.org/event/wichita-falls-free-8-hr-sfst-refresher-course/
LOCATION:Vernon College Skills Center\, 2813 Central Freeway East\, Wichita Falls\, TX\, 76302\, United States
CATEGORIES:8-HR SFST Refresher 2178/2177
ATTACH;FMTTYPE=:
GEO:33.8843137;-98.4381293
X-APPLE-STRUCTURED-LOCATION;VALUE=URI;X-ADDRESS=Vernon College Skills Center 2813 Central Freeway East Wichita Falls TX 76302 United States;X-APPLE-RADIUS=500;X-TITLE=2813 Central Freeway East:geo:-98.4381293,33.8843137
END:VEVENT
BEGIN:VEVENT
DTSTART;TZID=America/Chicago:20210208T080000
DTEND;TZID=America/Chicago:20210208T170000
DTSTAMP:20260421T065641
CREATED:20210108T155457Z
LAST-MODIFIED:20211108T001508Z
UID:10000109-1612771200-1612803600@txsfst.org
SUMMARY:Young Co – FREE 8 – HR SFST Refresher Course
DESCRIPTION:This is an 8-hour SFST refresher course designed to improve the administration and overall consistency of the Standardized Field Sobriety Test (SFST) Battery. Our mission is to decrease alcohol-related crashes\, injuries\, and deaths by promoting DWI deterrence and enforcement proficiency. \n*Successful completion of the Standardized Field Sobriety Testing Practitioner Course is a prerequisite.
URL:https://txsfst.org/event/young-co-free-8-hr-sfst-refresher-course/2021-02-08/
LOCATION:Young County Arena (Barclay Room)\, 120 Barclay Blvd\, Graham\, TX\, 76450\, United States
CATEGORIES:8-HR SFST Refresher 2178/2177
ATTACH;FMTTYPE=image/jpeg:https://txsfst.org/wp-content/uploads/2021/10/SFST-Logo-N-O-3.jpg
GEO:33.1210101;-98.5560358
X-APPLE-STRUCTURED-LOCATION;VALUE=URI;X-ADDRESS=Young County Arena (Barclay Room) 120 Barclay Blvd Graham TX 76450 United States;X-APPLE-RADIUS=500;X-TITLE=120 Barclay Blvd:geo:-98.5560358,33.1210101
END:VEVENT
BEGIN:VEVENT
DTSTART;TZID=America/Chicago:20210201T080000
DTEND;TZID=America/Chicago:20210201T170000
DTSTAMP:20260421T065641
CREATED:20210108T155457Z
LAST-MODIFIED:20211108T001508Z
UID:10000108-1612166400-1612198800@txsfst.org
SUMMARY:Young Co – FREE 8 – HR SFST Refresher Course
DESCRIPTION:This is an 8-hour SFST refresher course designed to improve the administration and overall consistency of the Standardized Field Sobriety Test (SFST) Battery. Our mission is to decrease alcohol-related crashes\, injuries\, and deaths by promoting DWI deterrence and enforcement proficiency. \n*Successful completion of the Standardized Field Sobriety Testing Practitioner Course is a prerequisite.
URL:https://txsfst.org/event/young-co-free-8-hr-sfst-refresher-course/2021-02-01/
LOCATION:Young County Arena (Barclay Room)\, 120 Barclay Blvd\, Graham\, TX\, 76450\, United States
CATEGORIES:8-HR SFST Refresher 2178/2177
ATTACH;FMTTYPE=image/jpeg:https://txsfst.org/wp-content/uploads/2021/10/SFST-Logo-N-O-3.jpg
GEO:33.1210101;-98.5560358
X-APPLE-STRUCTURED-LOCATION;VALUE=URI;X-ADDRESS=Young County Arena (Barclay Room) 120 Barclay Blvd Graham TX 76450 United States;X-APPLE-RADIUS=500;X-TITLE=120 Barclay Blvd:geo:-98.5560358,33.1210101
END:VEVENT
BEGIN:VEVENT
DTSTART;TZID=America/Chicago:20201210T080000
DTEND;TZID=America/Chicago:20201210T170000
DTSTAMP:20260421T065641
CREATED:20201102T155341Z
LAST-MODIFIED:20201102T155341Z
UID:10000081-1607587200-1607619600@txsfst.org
SUMMARY:Melissa - FREE 8 – HR SFST Refresher Course
DESCRIPTION:This is an 8-hour SFST refresher course designed to improve the administration and overall consistency of the Standardized Field Sobriety Test (SFST) Battery. Our mission is to decrease alcohol-related crashes\, injuries\, and deaths by promoting DWI deterrence and enforcement proficiency. \n*Successful completion of the Standardized Field Sobriety Testing Practitioner Course is a prerequisite.
URL:https://txsfst.org/event/free-8-hr-sfst-refresher-course-12/
LOCATION:Collin County College Public Safety Training Center\, 3600 Redbud Blvd\, Room 215\, McKinney\, TX\, 75071\, United States
CATEGORIES:8-HR SFST Refresher 2178/2177
GEO:33.2376029;-96.6224494
X-APPLE-STRUCTURED-LOCATION;VALUE=URI;X-ADDRESS=Collin County College Public Safety Training Center 3600 Redbud Blvd Room 215 McKinney TX 75071 United States;X-APPLE-RADIUS=500;X-TITLE=3600 Redbud Blvd\, Room 215:geo:-96.6224494,33.2376029
END:VEVENT
BEGIN:VEVENT
DTSTART;TZID=America/Chicago:20201208T080000
DTEND;TZID=America/Chicago:20201208T170000
DTSTAMP:20260421T065641
CREATED:20201201T162853Z
LAST-MODIFIED:20201201T162853Z
UID:10000118-1607414400-1607446800@txsfst.org
SUMMARY:Melissa - FREE 8 – HR SFST Refresher Course
DESCRIPTION:This is an 8-hour SFST refresher course designed to improve the administration and overall consistency of the Standardized Field Sobriety Test (SFST) Battery. Our mission is to decrease alcohol-related crashes\, injuries\, and deaths by promoting DWI deterrence and enforcement proficiency. \n*Successful completion of the Standardized Field Sobriety Testing Practitioner Course is a prerequisite.
URL:https://txsfst.org/event/melissa-free-8-hr-sfst-refresher-course/
LOCATION:Collin County College Public Safety Training Center\, 3600 Redbud Blvd\, Room 215\, McKinney\, TX\, 75071\, United States
CATEGORIES:8-HR SFST Refresher 2178/2177
GEO:33.2376029;-96.6224494
X-APPLE-STRUCTURED-LOCATION;VALUE=URI;X-ADDRESS=Collin County College Public Safety Training Center 3600 Redbud Blvd Room 215 McKinney TX 75071 United States;X-APPLE-RADIUS=500;X-TITLE=3600 Redbud Blvd\, Room 215:geo:-96.6224494,33.2376029
END:VEVENT
END:VCALENDAR