BEGIN:VCALENDAR
VERSION:2.0
PRODID:-//Texas SFST - ECPv6.15.20//NONSGML v1.0//EN
CALSCALE:GREGORIAN
METHOD:PUBLISH
X-WR-CALNAME:Texas SFST
X-ORIGINAL-URL:https://txsfst.org
X-WR-CALDESC:Events for Texas SFST
REFRESH-INTERVAL;VALUE=DURATION:PT1H
X-Robots-Tag:noindex
X-PUBLISHED-TTL:PT1H
BEGIN:VTIMEZONE
TZID:America/Chicago
BEGIN:DAYLIGHT
TZOFFSETFROM:-0600
TZOFFSETTO:-0500
TZNAME:CDT
DTSTART:20240310T080000
END:DAYLIGHT
BEGIN:STANDARD
TZOFFSETFROM:-0500
TZOFFSETTO:-0600
TZNAME:CST
DTSTART:20241103T070000
END:STANDARD
BEGIN:DAYLIGHT
TZOFFSETFROM:-0600
TZOFFSETTO:-0500
TZNAME:CDT
DTSTART:20250309T080000
END:DAYLIGHT
BEGIN:STANDARD
TZOFFSETFROM:-0500
TZOFFSETTO:-0600
TZNAME:CST
DTSTART:20251102T070000
END:STANDARD
BEGIN:DAYLIGHT
TZOFFSETFROM:-0600
TZOFFSETTO:-0500
TZNAME:CDT
DTSTART:20260308T080000
END:DAYLIGHT
BEGIN:STANDARD
TZOFFSETFROM:-0500
TZOFFSETTO:-0600
TZNAME:CST
DTSTART:20261101T070000
END:STANDARD
END:VTIMEZONE
BEGIN:VEVENT
DTSTART;TZID=America/Chicago:20250814T080000
DTEND;TZID=America/Chicago:20250814T170000
DTSTAMP:20260424T083243
CREATED:20250423T201122Z
LAST-MODIFIED:20250423T201122Z
UID:10000700-1755158400-1755190800@txsfst.org
SUMMARY:Schertz FREE 8 – HR SFST Refresher Course
DESCRIPTION:This is an 8-hour SFST refresher course designed to improve the administration and overall consistency of the Standardized Field Sobriety Test (SFST) Battery. Our mission is to decrease alcohol-related crashes\, injuries\, and deaths by promoting DWI deterrence and enforcement proficiency. \n*Successful completion of the Standardized Field Sobriety Testing Practitioner Course is a prerequisite.
URL:https://txsfst.org/event/schertz-free-8-hr-sfst-refresher-course-5/
LOCATION:City of Schertz Fire Station 3\, 11917 Lower Seguin Rd\, Schertz\, TX\, 78154\, United States
CATEGORIES:8-HR SFST Refresher 2178/2177
ATTACH;FMTTYPE=image/png:https://txsfst.org/wp-content/uploads/2022/10/Refresher-Flag.png
GEO:29.5228621;-98.2487492
X-APPLE-STRUCTURED-LOCATION;VALUE=URI;X-ADDRESS=City of Schertz Fire Station 3 11917 Lower Seguin Rd Schertz TX 78154 United States;X-APPLE-RADIUS=500;X-TITLE=11917 Lower Seguin Rd:geo:-98.2487492,29.5228621
END:VEVENT
BEGIN:VEVENT
DTSTART;TZID=America/Chicago:20250610T080000
DTEND;TZID=America/Chicago:20250610T170000
DTSTAMP:20260424T083243
CREATED:20250423T191156Z
LAST-MODIFIED:20250423T191812Z
UID:10000697-1749542400-1749574800@txsfst.org
SUMMARY:Schertz FREE 8 – HR SFST Refresher Course
DESCRIPTION:This is an 8-hour SFST refresher course designed to improve the administration and overall consistency of the Standardized Field Sobriety Test (SFST) Battery. Our mission is to decrease alcohol-related crashes\, injuries\, and deaths by promoting DWI deterrence and enforcement proficiency. \n*Successful completion of the Standardized Field Sobriety Testing Practitioner Course is a prerequisite.
URL:https://txsfst.org/event/schertz-free-8-hr-sfst-refresher-course-3/
LOCATION:City of Schertz Fire Station 3\, 11917 Lower Seguin Rd\, Schertz\, TX\, 78154\, United States
CATEGORIES:8-HR SFST Refresher 2178/2177
ATTACH;FMTTYPE=image/png:https://txsfst.org/wp-content/uploads/2022/10/Refresher-Flag.png
GEO:29.5228621;-98.2487492
X-APPLE-STRUCTURED-LOCATION;VALUE=URI;X-ADDRESS=City of Schertz Fire Station 3 11917 Lower Seguin Rd Schertz TX 78154 United States;X-APPLE-RADIUS=500;X-TITLE=11917 Lower Seguin Rd:geo:-98.2487492,29.5228621
END:VEVENT
BEGIN:VEVENT
DTSTART;TZID=America/Chicago:20250401T080000
DTEND;TZID=America/Chicago:20250401T170000
DTSTAMP:20260424T083243
CREATED:20250121T153958Z
LAST-MODIFIED:20250121T153958Z
UID:10000668-1743494400-1743526800@txsfst.org
SUMMARY:Schertz FREE 8 – HR SFST Refresher Course
DESCRIPTION:This is an 8-hour SFST refresher course designed to improve the administration and overall consistency of the Standardized Field Sobriety Test (SFST) Battery. Our mission is to decrease alcohol-related crashes\, injuries\, and deaths by promoting DWI deterrence and enforcement proficiency. \n*Successful completion of the Standardized Field Sobriety Testing Practitioner Course is a prerequisite.
URL:https://txsfst.org/event/schertz-free-8-hr-sfst-refresher-course-2/
LOCATION:City of Schertz Fire Station 3\, 11917 Lower Seguin Rd\, Schertz\, TX\, 78154\, United States
CATEGORIES:8-HR SFST Refresher 2178/2177
ATTACH;FMTTYPE=image/png:https://txsfst.org/wp-content/uploads/2022/10/Refresher-Flag.png
GEO:29.5228621;-98.2487492
X-APPLE-STRUCTURED-LOCATION;VALUE=URI;X-ADDRESS=City of Schertz Fire Station 3 11917 Lower Seguin Rd Schertz TX 78154 United States;X-APPLE-RADIUS=500;X-TITLE=11917 Lower Seguin Rd:geo:-98.2487492,29.5228621
END:VEVENT
BEGIN:VEVENT
DTSTART;TZID=America/Chicago:20250304T080000
DTEND;TZID=America/Chicago:20250304T170000
DTSTAMP:20260424T083243
CREATED:20250121T153850Z
LAST-MODIFIED:20250121T153850Z
UID:10000667-1741075200-1741107600@txsfst.org
SUMMARY:Schertz FREE 8 – HR SFST Refresher Course
DESCRIPTION:This is an 8-hour SFST refresher course designed to improve the administration and overall consistency of the Standardized Field Sobriety Test (SFST) Battery. Our mission is to decrease alcohol-related crashes\, injuries\, and deaths by promoting DWI deterrence and enforcement proficiency. \n*Successful completion of the Standardized Field Sobriety Testing Practitioner Course is a prerequisite.
URL:https://txsfst.org/event/schertz-free-8-hr-sfst-refresher-course/
LOCATION:City of Schertz Fire Station 3\, 11917 Lower Seguin Rd\, Schertz\, TX\, 78154\, United States
CATEGORIES:8-HR SFST Refresher 2178/2177
ATTACH;FMTTYPE=image/png:https://txsfst.org/wp-content/uploads/2022/10/Refresher-Flag.png
GEO:29.5228621;-98.2487492
X-APPLE-STRUCTURED-LOCATION;VALUE=URI;X-ADDRESS=City of Schertz Fire Station 3 11917 Lower Seguin Rd Schertz TX 78154 United States;X-APPLE-RADIUS=500;X-TITLE=11917 Lower Seguin Rd:geo:-98.2487492,29.5228621
END:VEVENT
END:VCALENDAR