BEGIN:VCALENDAR
VERSION:2.0
PRODID:-//Texas SFST - ECPv6.15.20//NONSGML v1.0//EN
CALSCALE:GREGORIAN
METHOD:PUBLISH
X-WR-CALNAME:Texas SFST
X-ORIGINAL-URL:https://txsfst.org
X-WR-CALDESC:Events for Texas SFST
REFRESH-INTERVAL;VALUE=DURATION:PT1H
X-Robots-Tag:noindex
X-PUBLISHED-TTL:PT1H
BEGIN:VTIMEZONE
TZID:America/Chicago
BEGIN:DAYLIGHT
TZOFFSETFROM:-0600
TZOFFSETTO:-0500
TZNAME:CDT
DTSTART:20250309T080000
END:DAYLIGHT
BEGIN:STANDARD
TZOFFSETFROM:-0500
TZOFFSETTO:-0600
TZNAME:CST
DTSTART:20251102T070000
END:STANDARD
BEGIN:DAYLIGHT
TZOFFSETFROM:-0600
TZOFFSETTO:-0500
TZNAME:CDT
DTSTART:20260308T080000
END:DAYLIGHT
BEGIN:STANDARD
TZOFFSETFROM:-0500
TZOFFSETTO:-0600
TZNAME:CST
DTSTART:20261101T070000
END:STANDARD
BEGIN:DAYLIGHT
TZOFFSETFROM:-0600
TZOFFSETTO:-0500
TZNAME:CDT
DTSTART:20270314T080000
END:DAYLIGHT
BEGIN:STANDARD
TZOFFSETFROM:-0500
TZOFFSETTO:-0600
TZNAME:CST
DTSTART:20271107T070000
END:STANDARD
END:VTIMEZONE
BEGIN:VEVENT
DTSTART;TZID=America/Chicago:20260811T080000
DTEND;TZID=America/Chicago:20260811T170000
DTSTAMP:20260421T210950
CREATED:20260417T150133Z
LAST-MODIFIED:20260417T150133Z
UID:10000873-1786435200-1786467600@txsfst.org
SUMMARY:Robertson Co FREE 8 – HR SFST Refresher Course
DESCRIPTION:This is an 8-hour SFST refresher course designed to improve the administration and overall consistency of the Standardized Field Sobriety Test (SFST) Battery. Our mission is to decrease alcohol-related crashes\, injuries\, and deaths by promoting DWI deterrence and enforcement proficiency. \n*Successful completion of the Standardized Field Sobriety Testing Practitioner Course is a prerequisite.
URL:https://txsfst.org/event/robertson-co-free-8-hr-sfst-refresher-course/
LOCATION:Robertson County Sheriff Office\, 1006 W US HWY 79\, Franklin\, TX\, 77856\, United States
CATEGORIES:8-HR SFST Refresher 2178/2177
ATTACH;FMTTYPE=image/png:https://txsfst.org/wp-content/uploads/2022/10/Refresher-Flag.png
GEO:31.0209241;-96.4925914
X-APPLE-STRUCTURED-LOCATION;VALUE=URI;X-ADDRESS=Robertson County Sheriff Office 1006 W US HWY 79 Franklin TX 77856 United States;X-APPLE-RADIUS=500;X-TITLE=1006 W US HWY 79:geo:-96.4925914,31.0209241
END:VEVENT
BEGIN:VEVENT
DTSTART;TZID=America/Chicago:20260908T080000
DTEND;TZID=America/Chicago:20260910T170000
DTSTAMP:20260421T210950
CREATED:20260421T213646Z
LAST-MODIFIED:20260421T213646Z
UID:10000880-1788854400-1789059600@txsfst.org
SUMMARY:Harris Co FREE 24 - HR SFST Practitioner Course
DESCRIPTION:This training course uses the nationally standardized SFST curriculum and prepares Texas Peace Officers to administer and interpret the results of the Standardized Field Sobriety Testing battery. This course is offered to bridge the gap in officers who attended the Basic Peace Officer Course in Texas prior to January 1\, 2005\, when this course was mandated to be included in all Texas BPOCs. \nTentative Schedule for this course:\nDay 1: 8am – 5pm\nDay 2: 12pm – 9pm\nDay 3: 12pm – 9pm
URL:https://txsfst.org/event/harris-co-free-24-hr-sfst-practitioner-course-2/
LOCATION:Northwest Volunteer Fire Department\, 12820 TC Jester Blvd\, Houston\, TX\, 77038\, United States
CATEGORIES:24-HR SFST Practitioner 2067
ATTACH;FMTTYPE=image/png:https://txsfst.org/wp-content/uploads/2022/10/Practitioner-Flag.png
GEO:29.8746191;-95.4591094
X-APPLE-STRUCTURED-LOCATION;VALUE=URI;X-ADDRESS=Northwest Volunteer Fire Department 12820 TC Jester Blvd Houston TX 77038 United States;X-APPLE-RADIUS=500;X-TITLE=12820 TC Jester Blvd:geo:-95.4591094,29.8746191
END:VEVENT
BEGIN:VEVENT
DTSTART;TZID=America/Chicago:20261023T080000
DTEND;TZID=America/Chicago:20261023T170000
DTSTAMP:20260421T210950
CREATED:20260304T222438Z
LAST-MODIFIED:20260306T225612Z
UID:10000837-1792742400-1792774800@txsfst.org
SUMMARY:Sugar Land FREE 8 – HR SFST Refresher Course
DESCRIPTION:This is an 8-hour SFST refresher course designed to improve the administration and overall consistency of the Standardized Field Sobriety Test (SFST) Battery. Our mission is to decrease alcohol-related crashes\, injuries\, and deaths by promoting DWI deterrence and enforcement proficiency. \n*Successful completion of the Standardized Field Sobriety Testing Practitioner Course is a prerequisite.
URL:https://txsfst.org/event/sugar-land-free-8-hr-sfst-refresher-course-7/
LOCATION:Sugar Land Police Department – Training Room\, 1200 State Highway 6\, Sugar Land\, TX\, 77478\, United States
CATEGORIES:8-HR SFST Refresher 2178/2177
ATTACH;FMTTYPE=image/png:https://txsfst.org/wp-content/uploads/2022/10/Refresher-Flag.png
GEO:29.6037094;-95.6369368
X-APPLE-STRUCTURED-LOCATION;VALUE=URI;X-ADDRESS=Sugar Land Police Department – Training Room 1200 State Highway 6 Sugar Land TX 77478 United States;X-APPLE-RADIUS=500;X-TITLE=1200 State Highway 6:geo:-95.6369368,29.6037094
END:VEVENT
BEGIN:VEVENT
DTSTART;TZID=America/Chicago:20261119T080000
DTEND;TZID=America/Chicago:20261119T170000
DTSTAMP:20260421T210950
CREATED:20260304T222641Z
LAST-MODIFIED:20260306T225705Z
UID:10000838-1795075200-1795107600@txsfst.org
SUMMARY:Sugar Land FREE 8 – HR SFST Refresher Course
DESCRIPTION:This is an 8-hour SFST refresher course designed to improve the administration and overall consistency of the Standardized Field Sobriety Test (SFST) Battery. Our mission is to decrease alcohol-related crashes\, injuries\, and deaths by promoting DWI deterrence and enforcement proficiency. \n*Successful completion of the Standardized Field Sobriety Testing Practitioner Course is a prerequisite.
URL:https://txsfst.org/event/sugar-land-free-8-hr-sfst-refresher-course-8/
LOCATION:Sugar Land Police Department – Training Room\, 1200 State Highway 6\, Sugar Land\, TX\, 77478\, United States
CATEGORIES:8-HR SFST Refresher 2178/2177
ATTACH;FMTTYPE=image/png:https://txsfst.org/wp-content/uploads/2022/10/Refresher-Flag.png
GEO:29.6037094;-95.6369368
X-APPLE-STRUCTURED-LOCATION;VALUE=URI;X-ADDRESS=Sugar Land Police Department – Training Room 1200 State Highway 6 Sugar Land TX 77478 United States;X-APPLE-RADIUS=500;X-TITLE=1200 State Highway 6:geo:-95.6369368,29.6037094
END:VEVENT
BEGIN:VEVENT
DTSTART;TZID=America/Chicago:20261203T080000
DTEND;TZID=America/Chicago:20261203T170000
DTSTAMP:20260421T210950
CREATED:20260304T222729Z
LAST-MODIFIED:20260306T225733Z
UID:10000839-1796284800-1796317200@txsfst.org
SUMMARY:Sugar Land FREE 8 – HR SFST Refresher Course
DESCRIPTION:This is an 8-hour SFST refresher course designed to improve the administration and overall consistency of the Standardized Field Sobriety Test (SFST) Battery. Our mission is to decrease alcohol-related crashes\, injuries\, and deaths by promoting DWI deterrence and enforcement proficiency. \n*Successful completion of the Standardized Field Sobriety Testing Practitioner Course is a prerequisite.
URL:https://txsfst.org/event/sugar-land-free-8-hr-sfst-refresher-course-9/
LOCATION:Sugar Land Police Department – Training Room\, 1200 State Highway 6\, Sugar Land\, TX\, 77478\, United States
CATEGORIES:8-HR SFST Refresher 2178/2177
ATTACH;FMTTYPE=image/png:https://txsfst.org/wp-content/uploads/2022/10/Refresher-Flag.png
GEO:29.6037094;-95.6369368
X-APPLE-STRUCTURED-LOCATION;VALUE=URI;X-ADDRESS=Sugar Land Police Department – Training Room 1200 State Highway 6 Sugar Land TX 77478 United States;X-APPLE-RADIUS=500;X-TITLE=1200 State Highway 6:geo:-95.6369368,29.6037094
END:VEVENT
BEGIN:VEVENT
DTSTART;TZID=America/Chicago:20261214T080000
DTEND;TZID=America/Chicago:20261214T170000
DTSTAMP:20260421T210950
CREATED:20260304T222819Z
LAST-MODIFIED:20260306T225804Z
UID:10000840-1797235200-1797267600@txsfst.org
SUMMARY:Sugar Land FREE 8 – HR SFST Refresher Course
DESCRIPTION:This is an 8-hour SFST refresher course designed to improve the administration and overall consistency of the Standardized Field Sobriety Test (SFST) Battery. Our mission is to decrease alcohol-related crashes\, injuries\, and deaths by promoting DWI deterrence and enforcement proficiency. \n*Successful completion of the Standardized Field Sobriety Testing Practitioner Course is a prerequisite.
URL:https://txsfst.org/event/sugar-land-free-8-hr-sfst-refresher-course-10/
LOCATION:Sugar Land Police Department – Training Room\, 1200 State Highway 6\, Sugar Land\, TX\, 77478\, United States
CATEGORIES:8-HR SFST Refresher 2178/2177
ATTACH;FMTTYPE=image/png:https://txsfst.org/wp-content/uploads/2022/10/Refresher-Flag.png
GEO:29.6037094;-95.6369368
X-APPLE-STRUCTURED-LOCATION;VALUE=URI;X-ADDRESS=Sugar Land Police Department – Training Room 1200 State Highway 6 Sugar Land TX 77478 United States;X-APPLE-RADIUS=500;X-TITLE=1200 State Highway 6:geo:-95.6369368,29.6037094
END:VEVENT
END:VCALENDAR